Workbook

Sheet Sheet0 (2)
A3: 四川农业大学2026年第四期(20260709)高影响力论文清单
B5: Documents Result List: Institutions - 'SICHUAN AGRICULTURAL UNIVERSITY' Show - Top Papers
A6: 序号 | B6: Accession Number | C6: DOI | D6: PMID | E6: Article Name | F6: Authors | G6: Source | H6: Research Field | I6: Times Cited | J6: Countries | K6: Addresses | L6: Institutions | M6: Publication Date | N6: 我校作者及排序 | O6: 二级机构 | P6: 备注
A7: 1 | B7: WOS:000367818800006 | C7: 10.1016/j.molp.2015.08.010 | D7: MEDLINE:26343970 | E7: TWO FACES OF ONE SEED: HORMONAL REGULATION OF DORMANCY AND GERMINATION | F7: SHU, K;LIU, XD;XIE, Q;HE, ZH | G7: MOLECULAR PLANT 9 (1): 34-45 JAN 4 2016 | H7: PLANT & ANIMAL SCIENCE | I7: 781 | J7: CHINA MAINLAND; | K7: CHINESE ACAD SCI, INST GENET & DEV BIOL, STATE KEY LAB PLANT GENOM, BEIJING 100101, PEOPLES R CHINA;CHINESE ACAD SCI, INST PLANT PHYSIOL & ECOL, NATL KEY LAB PLANT MOL GENET, SHANGHAI 200032, PEOPLES R CHINA;SICHUAN AGR UNIV, INST ECOL AGR, KEY LAB CROP ECOPHYSIOL & FARMING SYST SOUTHWEST, CHENGDU 611130, PEOPLES R CHINA;XINJIANG AGR UNIV, COLL AGRON, URUMQI 830052, XINJIANG, PEOPLES R CHINA | L7: CHINESE ACADEMY OF SCIENCES;XINJIANG AGRICULTURAL UNIVERSITY;SICHUAN AGRICULTURAL UNIVERSITY;INSTITUTE OF GENETICS & DEVELOPMENTAL BIOLOGY, CAS; | M7: 2016 | N7: =VLOOKUP(B7,Sheet2!A:O,13,FALSE) -> 舒凯:1通讯作者 | O7: =VLOOKUP(C7,Sheet2!B:O,13,FALSE) -> 农学院 | P7: =VLOOKUP(D7,Sheet2!C:O,13,FALSE) -> 高被引论文
A8: 2 | B8: WOS:000569596500001 | C8: 10.3390/ijms21176356 | D8: MEDLINE:32887215 | E8: SHORT-CHAIN FATTY ACIDS AND THEIR ASSOCIATION WITH SIGNALLING PATHWAYS IN INFLAMMATION, GLUCOSE AND LIPID METABOLISM | F8: HE, J;ZHANG, PW;SHEN, LY;NIU, LL;TAN, Y;CHEN, L;ZHAO, Y;BAI, L;HAO, XX;LI, XW;ZHANG, SH;ZHU, L | G8: INTERNATIONAL JOURNAL OF MOLECULAR SCIENCES 21 (17): - SEP 2020 | H8: CHEMISTRY | I8: 768 | J8: CHINA MAINLAND; | K8: SICHUAN AGR UNIV, COLL ANIM SCI & TECHNOL, CHENGDU 611130, PEOPLES R CHINA;SICHUAN AGR UNIV, FARM ANIM GENET RESOURCE EXPLORAT & INNOVAT KEY L, CHENGDU 611130, PEOPLES R CHINA;GUIZHOU ACAD AGR SCI, INST ANIM HUSB & VET, GUIYANG 550005, PEOPLES R CHINA | L8: GUIZHOU ACADEMY OF AGRICULTURAL SCIENCES;SICHUAN AGRICULTURAL UNIVERSITY; | M8: 2020 | N8: =VLOOKUP(B8,Sheet2!A:O,13,FALSE) -> 何劲:1;张培文:2;沈林園:3; 牛丽莉:4;谭娅:5;陈蕾:6;赵叶:7;白林:8;郝小霞:9;李学伟:10;张顺华:11共同通讯作者;朱砺:12共同通讯作者 | O8: =VLOOKUP(C8,Sheet2!B:O,13,FALSE) -> 动物科技学院 | P8: =VLOOKUP(D8,Sheet2!C:O,13,FALSE) -> 高被引论文
A9: 3 | B9: WOS:000389917900111 | C9: 10.3390/molecules21101374 | D9: NA | E9: AN OVERVIEW OF PLANT PHENOLIC COMPOUNDS AND THEIR IMPORTANCE IN HUMAN NUTRITION AND MANAGEMENT OF TYPE 2 DIABETES | F9: LIN, DR;XIAO, MS;ZHAO, JJ;LI, ZH;XING, BS;LI, XD;KONG, MZ;LI, LY;ZHANG, Q;LIU, YW;CHEN, H;QIN, W;WU, HJ;CHEN, SY | G9: MOLECULES 21 (10): - OCT 2016 | H9: CHEMISTRY | I9: 634 | J9: CHINA MAINLAND;USA; | K9: SICHUAN AGR UNIV, COLL FOOD SCI, 46 XINKANG RD, YAAN 625014, SICHUAN, PEOPLES R CHINA;UNIV MASSACHUSETTS, STOCKBRIDGE SCH AGR, AMHERST, MA 01003 USA | L9: SICHUAN AGRICULTURAL UNIVERSITY;UNIVERSITY OF MASSACHUSETTS SYSTEM;UNIVERSITY OF MASSACHUSETTS AMHERST; | M9: 2016 | N9: =VLOOKUP(B9,Sheet2!A:O,13,FALSE) -> 林德荣:1通讯作者; 肖梦诗:2 ; 赵菁菁:3; 李卓豪:4;李心丹:6 ;孔茂竹:7 ; 李粮裕:8; 张清:9; 刘耀文:10; 陈洪:11;秦文:12;吴贺军:13; 陈赛艳:14 | O9: =VLOOKUP(C9,Sheet2!B:O,13,FALSE) -> 食品学院 | P9: =VLOOKUP(D9,Sheet2!C:O,13,FALSE) -> 高被引论文
A10: 4 | B10: WOS:000404358500014 | C10: 10.1016/j.cell.2017.06.008 | D10: MEDLINE:28666113 | E10: A NATURAL ALLELE OF A TRANSCRIPTION FACTOR IN RICE CONFERS BROAD-SPECTRUM BLAST RESISTANCE | F10: LI, WT;ZHU, ZW;CHERN, MS;YIN, JJ;YANG, C;RAN, L;CHENG, MP;HE, M;WANG, K;WANG, J;ZHOU, XG;ZHU, XB;CHEN, ZX;WANG, JC;ZHAO, W;MA, BT;QIN, P;CHEN, WL;WANG, YP;LIU, JL;WANG, WM;WU, XJ;LI, P;WANG, JR;ZHU, LH;LI, SG;CHEN, XW | G10: CELL 170 (1): 114-+ JUN 29 2017 | H10: MOLECULAR BIOLOGY & GENETICS | I10: 506 | J10: CHINA MAINLAND;USA; | K10: SICHUAN AGR UNIV WENJIANG, RICE RES INST, KEY LAB MAJOR CROP DIS, STATE KEY LAB HYBRID RICE, CHENGDU 611130, SICHUAN, PEOPLES R CHINA;SICHUAN AGR UNIV WENJIANG, COLLABORAT INNOVAT CTR HYBRID RICE YANGTZE RIVER, CHENGDU 611130, SICHUAN, PEOPLES R CHINA;UNIV CALIF DAVIS, DEPT PLANT PATHOL, DAVIS, CA 95616 USA;JOINT BIOENERGY INST, EMERYVILLE, CA 94608 USA;SICHUAN AGR UNIV, TRITICEAE RES INST, CHENGDU 611130, SICHUAN, PEOPLES R CHINA;CHINESE ACAD SCI, INST GENET & DEV BIOL, STATE KEY LAB PLANT GENOM, BEIJING 100101, PEOPLES R CHINA;CHINESE ACAD SCI, NATL CTR PLANT GENE RES, BEIJING 100101, PEOPLES R CHINA | L10: CHINESE ACADEMY OF SCIENCES;UNIVERSITY OF CALIFORNIA SYSTEM;UNIVERSITY OF CALIFORNIA DAVIS;UNITED STATES DEPARTMENT OF ENERGY (DOE);SICHUAN AGRICULTURAL UNIVERSITY;SICHUAN AGR UNIV WENJIANG;JOINT BIOENERGY INSTITUTE - JBEI;INSTITUTE OF GENETICS & DEVELOPMENTAL BIOLOGY, CAS; | M10: 2017 | N10: =VLOOKUP(B10,Sheet2!A:O,13,FALSE) -> 李伟滔:1;朱紫薇:2; 尹俊杰:4;杨超:5;冉莉:6;程梦萍:7;贺闽:8; 王康:9; 王静:10; 周晓钢:11;朱孝波:12; 陈智雄:13 ;汪吉春:14; 赵文:15; 马炳田:16;钦鹏:17;陈薇兰:18; 王玉平:19;刘佳丽:20; 王文明:21;吴先军:22;李平:23;王际睿:24; 李仕贵:26;陈学伟:27通讯作者 | O10: =VLOOKUP(C10,Sheet2!B:O,13,FALSE) -> 水稻研究所 | P10: =VLOOKUP(D10,Sheet2!C:O,13,FALSE) -> 高被引论文
A11: 5 | B11: WOS:000405815000064 | C11: 10.21037/jtd.2017.05.34 | D11: MEDLINE:28740688 | E11: A GENERAL INTRODUCTION TO ADJUSTMENT FOR MULTIPLE COMPARISONS | F11: CHEN, SY;FENG, Z;YI, XL | G11: JOURNAL OF THORACIC DISEASE 9 (6): 1725-1729 JUN 2017 | H11: CLINICAL MEDICINE | I11: 503 | J11: CHINA MAINLAND; | K11: SICHUAN AGR UNIV, FARM ANIM GENET RESOURCES EXPLORAT & INNOVAT KEY, 211 HUIMIN RD, CHENGDU 611130, SICHUAN, PEOPLES R CHINA;SICHUAN UNIV, WEST CHINA HOSP, DEPT GASTROENTEROL, CHENGDU 610041, SICHUAN, PEOPLES R CHINA;CHENGDU UNIV INFORMAT TECHNOL, COLL APPL MATH, CHENGDU 610225, SICHUAN, PEOPLES R CHINA | L11: CHENGDU UNIVERSITY OF INFORMATION TECHNOLOGY;SICHUAN UNIVERSITY;SICHUAN AGRICULTURAL UNIVERSITY; | M11: 2017 | N11: =VLOOKUP(B11,Sheet2!A:O,13,FALSE) -> 陈仕毅:1通讯作者 | O11: =VLOOKUP(C11,Sheet2!B:O,13,FALSE) -> 动物科技学院 | P11: =VLOOKUP(D11,Sheet2!C:O,13,FALSE) -> 高被引论文
A12: 6 | B12: WOS:000392664800001 | C12: 10.1186/s40104-016-0139-z | D12: MEDLINE:28127425 | E12: NOVEL METABOLIC AND PHYSIOLOGICAL FUNCTIONS OF BRANCHED CHAIN AMINO ACIDS: A REVIEW | F12: ZHANG, SH;ZENG, XF;REN, M;MAO, XB;QIAO, SY | G12: JOURNAL OF ANIMAL SCIENCE AND BIOTECHNOLOGY 8: - JAN 23 2017 | H12: AGRICULTURAL SCIENCES | I12: 501 | J12: CHINA MAINLAND; | K12: CHINA AGR UNIV, STATE KEY LAB ANIM NUTR, COLL ANIM SCI & TECHNOL, 2 YUANMINGYUAN WEST RD, BEIJING 100193, PEOPLES R CHINA;SOUTH CHINA AGR UNIV, COLL ANIM SCI, WUSHAN AVE, GUANGZHOU 510642, GUANGDONG, PEOPLES R CHINA;ANHUI SCI & TECHNOL UNIV, COLL ANIM SCI, 9 DONGHUA RD, FENGYANG 233100, ANHUI, PEOPLES R CHINA;SICHUAN AGR UNIV, INST ANIM NUTR, KEY LAB ANIM DIS RESISTANCE NUTR, MINIST EDUC, YAAN, SICHUAN, PEOPLES R CHINA | L12: ANHUI SCIENCE & TECHNOLOGY UNIVERSITY;SOUTH CHINA AGRICULTURAL UNIVERSITY;SICHUAN AGRICULTURAL UNIVERSITY;CHINA AGRICULTURAL UNIVERSITY; | M12: 2017 | N12: =VLOOKUP(B12,Sheet2!A:O,13,FALSE) -> 毛湘冰:4 | O12: =VLOOKUP(C12,Sheet2!B:O,13,FALSE) -> 动物营养研究所 | P12: =VLOOKUP(D12,Sheet2!C:O,13,FALSE) -> 高被引论文
A13: 7 | B13: WOS:000464956600053 | C13: 10.1126/science.aaw7166 | D13: MEDLINE:30819931 | E13: CYTOSINE, BUT NOT ADENINE, BASE EDITORS INDUCE GENOME-WIDE OFF-TARGET MUTATIONS IN RICE | F13: JIN, S;ZONG, Y;GAO, Q;ZHU, ZX;WANG, YP;QIN, P;LIANG, CZ;WANG, DW;QIU, JL;ZHANG, F;GAO, CX | G13: SCIENCE 364 (6437): 292-+ APR 19 2019 | H13: BIOLOGY & BIOCHEMISTRY | I13: 492 | J13: CHINA MAINLAND;USA; | K13: CHINESE ACAD SCI, STATE KEY LAB PLANT CELL & CHROMOSOME ENGN, INNOVAT ACAD SEED DESIGN, CTR GENOME EDITING,INST GENET & DEV BIOL, BEIJING 100101, PEOPLES R CHINA;UNIV CHINESE ACAD SCI, BEIJING 100864, PEOPLES R CHINA;CHINESE ACAD SCI, STATE KEY LAB PLANT GENOM, INST GENET & DEV BIOL, INNOVAT ACAD SEED DESIGN, BEIJING 100101, PEOPLES R CHINA;SICHUAN AGR UNIV, RICE RES INST, CHENGDU 611130, SICHUAN, PEOPLES R CHINA;CHINESE ACAD SCI, INST MICROBIOL, STATE KEY LAB PLANT GENOM, BEIJING 100101, PEOPLES R CHINA;UNIV MINNESOTA, DEPT PLANT & MICROBIAL BIOL, CTR PLANT PRECIS GENOM, MICROBIAL & PLANT GENOM INST, ST PAUL, MN 55108 USA | L13: CHINESE ACADEMY OF SCIENCES;UNIVERSITY OF MINNESOTA TWIN CITIES;UNIVERSITY OF MINNESOTA SYSTEM;UNIVERSITY OF CHINESE ACADEMY OF SCIENCES, CAS;SICHUAN AGRICULTURAL UNIVERSITY;INSTITUTE OF MICROBIOLOGY, CAS;INSTITUTE OF GENETICS & DEVELOPMENTAL BIOLOGY, CAS; | M13: 2019 | N13: =VLOOKUP(B13,Sheet2!A:O,13,FALSE) -> 钦鹏:6 | O13: =VLOOKUP(C13,Sheet2!B:O,13,FALSE) -> 水稻研究所 | P13: =VLOOKUP(D13,Sheet2!C:O,13,FALSE) -> 高被引论文
A14: 8 | B14: WOS:000459845200002 | C14: 10.1016/j.jenvman.2018.10.117 | D14: MEDLINE:30466010 | E14: BIOCHAR AMENDMENT IMPROVES CROP PRODUCTION IN PROBLEM SOILS: A REVIEW | F14: YU, HW;ZOU, WX;CHEN, JJ;CHEN, H;YU, ZB;HUANG, J;TANG, HR;WEI, XY;GAO, B | G14: JOURNAL OF ENVIRONMENTAL MANAGEMENT 232: 8-21 FEB 15 2019 | H14: ENVIRONMENT/ECOLOGY | I14: 474 | J14: CHINA MAINLAND;USA; | K14: SICHUAN AGR UNIV, COLL HORT, CHENGDU 611130, SICHUAN, PEOPLES R CHINA;UNIV FLORIDA, DEPT AGR & BIOL ENGN, GAINESVILLE, FL 32611 USA;NANJING UNIV, SCH CHEM & CHEM ENGN, KEY LAB MESOSCOP CHEM MOE, NANJING 210093, JIANGSU, PEOPLES R CHINA;NANJING UNIV, CTR MODERN ANAL, JIANGSU KEY LAB VEHICLE EMISS CONTROL, NANJING 210093, JIANGSU, PEOPLES R CHINA;UNIV FLORIDA, MIDFLORIDA RES & EDUC CTR, APOPKA, FL 32703 USA;UNIV ARKANSAS PINE BLUFF, DEPT AGR, PINE BLUFF, AR 71601 USA;GUANGXI UNIV, SCH RESOURCES ENVIRONM & MAT, NANNING 530004, PEOPLES R CHINA;HUALAN DESIGN & CONSULTING GRP CO LTD, NANNING 530011, PEOPLES R CHINA;GUANGXI UNIV, COLL CIVIL ENGN & ARCHITECTURE, NANNING 530004, PEOPLES R CHINA;FUJIAN AGR & FORESTRY UNIV, COLL LIFE SCI, FUZHOU 350002, FUJIAN, PEOPLES R CHINA | L14: FUJIAN AGRICULTURE & FORESTRY UNIVERSITY;UNIVERSITY OF FLORIDA;UNIVERSITY OF ARKANSAS SYSTEM;UNIVERSITY ARKANSAS PINE BLUFF;STATE UNIVERSITY SYSTEM OF FLORIDA;SICHUAN AGRICULTURAL UNIVERSITY;NANJING UNIVERSITY;HUALAN DESIGN & CONSULTING GRP CO LTD;GUANGXI UNIVERSITY; | M14: 2019 | N14: =VLOOKUP(B14,Sheet2!A:O,13,FALSE) -> 余昊唯:1;汤浩茹:7通讯作者 | O14: =VLOOKUP(C14,Sheet2!B:O,13,FALSE) -> 园艺学院 | P14: =VLOOKUP(D14,Sheet2!C:O,13,FALSE) -> 高被引论文
A15: 9 | B15: WOS:000397691200039 | C15: 10.1016/j.chemosphere.2017.02.061 | D15: MEDLINE:28235742 | E15: ADSORPTION OF CD(II) FROM AQUEOUS SOLUTIONS BY RAPE STRAW BIOCHAR DERIVED FROM DIFFERENT MODIFICATION PROCESSES | F15: LI, B;YANG, L;WANG, CQ;ZHANG, QP;LIU, QC;LI, YD;XIAO, R | G15: CHEMOSPHERE 175: 332-340 MAY 2017 | H15: ENVIRONMENT/ECOLOGY | I15: 441 | J15: CHINA MAINLAND; | K15: SICHUAN AGR UNIV, COLL RESOURCES, 211 HUIMIN RD, CHENGDU 611130, PEOPLES R CHINA | L15: SICHUAN AGRICULTURAL UNIVERSITY; | M15: 2017 | N15: =VLOOKUP(B15,Sheet2!A:O,13,FALSE) -> 李冰:1;杨兰:2;王昌全:3通讯作者;张庆沛:4; 刘倾城:5;李一丁:6;肖瑞:7 | O15: =VLOOKUP(C15,Sheet2!B:O,13,FALSE) -> 资源学院 | P15: =VLOOKUP(D15,Sheet2!C:O,13,FALSE) -> 高被引论文
A16: 10 | B16: WOS:000472683300063 | C16: 10.1021/acsami.9b05709 | D16: MEDLINE:31135126 | E16: FACILE, FLEXIBLE, COST-SAVING, AND ENVIRONMENT-FRIENDLY PAPER-BASED HUMIDITY SENSOR FOR MULTIFUNCTIONAL APPLICATIONS | F16: DUAN, ZH;JIANG, YD;YAN, MG;WANG, S;YUAN, Z;ZHAO, QN;SUN, P;XIE, GZ;DU, XS;TAI, HL | G16: ACS APPLIED MATERIALS & INTERFACES 11 (24): 21840-21849 JUN 19 2019 | H16: MATERIALS SCIENCE | I16: 416 | J16: CHINA MAINLAND; | K16: UESTC, SCH OPTOELECT SCI & ENGN, STATE KEY LAB ELECT THIN FILMS & INTEGRATED DEVIC, CHENGDU 610054, SICHUAN, PEOPLES R CHINA;SICHUAN AGR UNIV, COLL SCI, YAAN 625014, PEOPLES R CHINA;CHENGDU UNIV INFORMAT TECHNOL, COLL OPTOELECT ENGN, CHENGDU 610225, SICHUAN, PEOPLES R CHINA | L16: CHENGDU UNIVERSITY OF INFORMATION TECHNOLOGY;UNIVERSITY OF ELECTRONIC SCIENCE & TECHNOLOGY OF CHINA;SICHUAN AGRICULTURAL UNIVERSITY; | M16: 2019 | N16: =VLOOKUP(B16,Sheet2!A:O,13,FALSE) -> Yan; MG (Yan; Mingguo):3 | O16: =VLOOKUP(C16,Sheet2!B:O,13,FALSE) -> 理学院 | P16: =VLOOKUP(D16,Sheet2!C:O,13,FALSE) -> 高被引论文
A17: 11 | B17: WOS:000652617100012 | C17: 10.1016/j.tifs.2021.04.016 | D17: NA | E17: A REVIEW OF CELLULOSE AND ITS DERIVATIVES IN BIOPOLYMER-BASED FOR FOOD PACKAGING APPLICATION | F17: LIU, YW;AHMED, S;SAMEEN, DE;WANG, Y;LU, R;DAI, JW;LI, SQ;QIN, W | G17: TRENDS IN FOOD SCIENCE & TECHNOLOGY 112: 532-546 JUN 2021 | H17: AGRICULTURAL SCIENCES | I17: 409 | J17: CHINA MAINLAND;USA; | K17: SICHUAN AGR UNIV, COLL FOOD SCI, YAAN 625014, PEOPLES R CHINA;SICHUAN AGR UNIV, COLL MECH & ELECT ENGN, YAAN 625014, PEOPLES R CHINA;UNIV CALIF LOS ANGELES, CALIF NANO SYST INST, LOS ANGELES, CA 90095 USA | L17: SICHUAN AGRICULTURAL UNIVERSITY;UNIVERSITY OF CALIFORNIA SYSTEM;UNIVERSITY OF CALIFORNIA LOS ANGELES; | M17: 2021 | N17: =VLOOKUP(B17,Sheet2!A:O,13,FALSE) -> 刘耀文:1共同通讯作者; Ahmed, S (Ahmed, Saeed):2;Sameen, DE (Sameen, Dur E.):3;王玥:4;卢瑞:5;代建武:6;李素清:7;秦文:8共同通讯作者 | O17: =VLOOKUP(C17,Sheet2!B:O,13,FALSE) -> 食品学院 | P17: =VLOOKUP(D17,Sheet2!C:O,13,FALSE) -> 高被引论文
A18: 12 | B18: WOS:000665547300018 | C18: 10.1016/j.cell.2021.04.046 | D18: MEDLINE:34051138 | E18: PAN-GENOME ANALYSIS OF 33 GENETICALLY DIVERSE RICE ACCESSIONS REVEALS HIDDEN GENOMIC VARIATIONS | F18: QIN, P;LU, HW;DU, HL;WANG, H;CHEN, WL;CHEN, Z;HE, Q;OU, SJ;ZHANG, HY;LI, XZ;LI, XX;LI, Y;LIAO, Y;GAO, Q;TU, B;YUAN, H;MA, BT;WANG, YP;QIAN, YW;FAN, SJ;LI, WT;WANG, J;HE, M;YIN, JJ;LI, T;JIANG, N;CHEN, XW;LIANG, CZ;LI, SG | G18: CELL 184 (13): 3542-+ JUN 24 2021 | H18: MOLECULAR BIOLOGY & GENETICS | I18: 399 | J18: CHINA MAINLAND;USA; | K18: SICHUAN AGR UNIV, RICE RES INST, STATE KEY LAB CROP GENE EXPLORAT & UTILIZAT SOUTH, CHENGDU, SICHUAN, PEOPLES R CHINA;CHINESE ACAD SCI, INNOVAT ACAD SEED DESIGN, INST GENET & DEV BIOL, STATE KEY LAB PLANT GENOM, BEIJING, PEOPLES R CHINA;UNIV CHINESE ACAD SCI, BEIJING, PEOPLES R CHINA;HEBEI UNIV, SCH LIFE SCI, INST LIFE SCI & GREEN DEV, BAODING, PEOPLES R CHINA;IOWA STATE UNIV, DEPT ECOL EVOLUT & ORGANISMAL BIOL, AMES, IA USA;UNIV CALIF IRVINE, DEPT ECOL & EVOLUTIONARY BIOL, IRVINE, CA 92717 USA;BIOGLE GENOME EDITING CTR, CHANGZHOU, JIANGSU, PEOPLES R CHINA;MICHIGAN STATE UNIV, DEPT HORT, E LANSING, MI 48824 USA | L18: BIOGLE GENOME EDITING CTR;UNIVERSITY OF CHINESE ACADEMY OF SCIENCES, CAS;UNIVERSITY OF CALIFORNIA SYSTEM;UNIVERSITY OF CALIFORNIA IRVINE;SICHUAN AGRICULTURAL UNIVERSITY;MICHIGAN STATE UNIVERSITY;IOWA STATE UNIVERSITY;INSTITUTE OF GENETICS & DEVELOPMENTAL BIOLOGY, CAS;HEBEI UNIVERSITY;CHINESE ACADEMY OF SCIENCES; | M18: 2021 | N18: =VLOOKUP(B18,Sheet2!A:O,13,FALSE) -> 钦鹏:1 共同通讯作者; Wang, H (Wang, Hao):4; Chen, WL (Chen, Weilan):5;Tu, B (Tu, Bin):15;袁华 :16 ; 马炳田:17; 王玉平:18 ; Fan, SJ (Fan, Shijun):20; 李伟滔:21;王静:22;贺闽:23; 尹俊杰:24; Li, T (Li, Ting):25;陈学伟:27;李仕贵 :29共同通讯作者 | O18: =VLOOKUP(C18,Sheet2!B:O,13,FALSE) -> 水稻研究所 | P18: =VLOOKUP(D18,Sheet2!C:O,13,FALSE) -> 高被引论文
... A86: 80 | B86: WOS:000645276900001 | C86: 10.3389/fcimb.2021.625210 | D86: MEDLINE:33937093 | E86: GUT MICROBIOTA AND DIARRHEA: AN UPDATED REVIEW | F86: LI, YX;XIA, ST;JIANG, XH;FENG, C;GONG, SM;MA, J;FANG, ZF;YIN, J;YIN, YL | G86: FRONTIERS IN CELLULAR AND INFECTION MICROBIOLOGY 11: - APR 15 2021 | H86: MICROBIOLOGY | I86: 172 | J86: CHINA MAINLAND; | K86: HUNAN AGR UNIV, COLL ANIM SCI & TECHNOL, ANIM NUTR GENOME & GERMPLASM INNOVAT RES CTR, CHANGSHA, PEOPLES R CHINA;SICHUAN AGR UNIV, ANIM NUTR INST, CHENGDU, PEOPLES R CHINA;CHINESE ACAD SCI, INST SUBTROP AGR, CHANGSHA, PEOPLES R CHINA | L86: CHINESE ACADEMY OF SCIENCES;SICHUAN AGRICULTURAL UNIVERSITY;INSTITUTE OF SUBTROPICAL AGRICULTURE, CAS;HUNAN AGRICULTURAL UNIVERSITY; | M86: 2021 | N86: =VLOOKUP(B86,Sheet2!A:O,13,FALSE) -> 方正锋:7共同通讯作者 | O86: =VLOOKUP(C86,Sheet2!B:O,13,FALSE) -> 动物营养研究所 | P86: =VLOOKUP(D86,Sheet2!C:O,13,FALSE) -> 高被引论文
A87: 81 | B87: WOS:000713546100001 | C87: 10.1038/s41587-021-01058-4 | D87: MEDLINE:34725503 | E87: POPULATION GENOMIC ANALYSIS OF AEGILOPS TAUSCHII IDENTIFIES TARGETS FOR BREAD WHEAT IMPROVEMENT | F87: GAURAV, K;ARORA, S;SILVA, P;SÁNCHEZ-MARTÍN, J;HORSNELL, R;GAO, LL;BRAR, GS;WIDRIG, V;RAUPP, WJ;SINGH, N;WU, SY;KALE, SM;CHINOY, C;NICHOLSON, P;QUIROZ-CHÁVEZ, J;SIMMONDS, J;HAYTA, S;SMEDLEY, MA;HARWOOD, W;PEARCE, S;GILBERT, D;KANGARA, N;GARDENER, C;FORNER-MARTÍNEZ, M;LIU, JQ;YU, GT;BODEN, SA;PASCUCCI, A;GHOSH, S;HAFEEZ, AN;OHARA, T;WAITES, J;CHEEMA, J;STEUERNAGEL, B;PATPOUR, M;JUSTESEN, AF;LIU, SY;RUDD, JC;AVNI, R;SHARON, A;STEINER, B;KIRANA, RP;BUERSTMAYR, H;MEHRABI, AA;NASYROVA, FY;CHAYUT, N;MATNY, O;STEFFENSON, BJ;SANDHU, N;CHHUNEJA, P;LAGUDAH, E;ELKOT, AF;TYRRELL, S;BIAN, XD;DAVEY, RP;SIMONSEN, M;SCHAUSER, L;TIWARI, VK;KUTCHER, HR;HUCL, P;LI, AL;LIU, DC;MAO, L;XU, S;BROWN-GUEDIRA, G;FARIS, J;DVORAK, J;LUO, MC;KRASILEVA, K;LUX, T;ARTMEIER, S;MAYER, KFX;UAUY, C;MASCHER, M;BENTLEY, AR;KELLER, B;POLAND, J;WULFF, BBH | G87: NATURE BIOTECHNOLOGY 40 (3): 422-+ MAR 2022 | H87: BIOLOGY & BIOCHEMISTRY | I87: 170 | J87: AUSTRALIA;USA;URUGUAY;TAJIKISTAN;SWITZERLAND;SAUDI ARABIA;MEXICO;ITALY;ISRAEL;IRAN;INDONESIA;INDIA;GERMANY (FED REP GER);ENGLAND;EGYPT;DENMARK;CHINA MAINLAND;CANADA;AUSTRIA; | K87: JOHN INNES CTR, NORWICH RES PK, NORWICH, NORFOLK, ENGLAND;KANSAS STATE UNIV, DEPT PLANT PATHOL, THROCKMORTON HALL, MANHATTAN, KS 66506 USA;KANSAS STATE UNIV, WHEAT GENET RESOURCE CTR, MANHATTAN, KS 66506 USA;INST NACL INVEST AGR INIA, ESTN EXPT ESTANZUELA, PROGRAMA NACL CULT SECANO, COLONIA, URUGUAY;UNIV ZURICH, DEPT PLANT & MICROBIAL BIOL, ZURICH, SWITZERLAND;NIAB, JOHN BINGHAM LAB, CAMBRIDGE, ENGLAND;UNIV SASKATCHEWAN, CROP DEV CTR, DEPT PLANT SCI, SASKATOON, SK, CANADA;UNIV BRITISH COLUMBIA, FAC LAND & FOOD SYST, VANCOUVER, BC, CANADA;LEIBNIZ INST PLANT GENET & CROP PLANT RES IPK GAT, SEELAND, GERMANY;NANJING AGR UNIV, CYTOGENET INST, NATL KEY LAB CROP GENET & GERMPLASM ENHANCEMENT, JCIC MCP, NANJING, PEOPLES R CHINA;UNIV ADELAIDE, SCH AGR FOOD & WINE, GLEN OSMOND, SA, AUSTRALIA;UNIV BOLOGNA, DEPT AGR & FOOD SCI, ALMA MATER STUDIORUM, BOLOGNA, ITALY;AARHUS UNIV, GLOBAL RUST REFERENCE CTR, DEPT AGROECOL, SLAGELSE, DENMARK;TEXAS A&M AGRILIFE RES, AMARILLO, TX USA;TEL AVIV UNIV, SCH PLANT SCI & FOOD SECUR, INST CEREAL CROPS IMPROVEMENT, TEL AVIV, ISRAEL;UNIV NAT RESOURCES & LIFE SCI, INST BIOTECHNOL PLANT PROD, DEPT AGROBIOTECHNOL IFA TULLN, VIENNA, AUSTRIA;UNIV GADJAH MADA, FAC AGR, DEPT AGRON, LAB PLANT BREEDING, YOGYAKARTA, INDONESIA;ILAM UNIV, DEPT AGRON & PLANT BREEDING, ILAM, IRAN;TAJIK NATL ACAD SCI, INST BOT PLANT PHYSIOL & GENET, DUSHANBE, TAJIKISTAN;JOHN INNES CTR, GERMPLASM RESOURCES UNIT, NORWICH RES PK, NORWICH, NORFOLK, ENGLAND;UNIV MINNESOTA, DEPT PLANT PATHOL, ST PAUL, MN USA;PUNJAB AGR UNIV, SCH AGR BIOTECHNOL, LUDHIANA, PUNJAB, INDIA;COMMONWEALTH SCI & IND RES ORG CSIRO, AGR & FOOD, CANBERRA, ACT, AUSTRALIA;AGR RES CTR, FIELD CROPS RES INST, WHEAT RES DEPT, GIZA, EGYPT;EARLHAM INST, NORWICH RES PK, NORWICH, NORFOLK, ENGLAND;QIAGEN AARHUS AS, AARHUS, DENMARK;UNIV MARYLAND, DEPT PLANT SCI & LANDSCAPE ARCHITECTURE, COLLEGE PK, MD 20742 USA;CHINESE ACAD AGR SCI, INST CROP SCI, BEIJING, PEOPLES R CHINA;SICHUAN AGR UNIV, TRITICEAE RES INST, CHENGDU, PEOPLES R CHINA;USDA ARS CEREAL CROPS RES UNIT, EDWARD T SCHAFER AGR RES CTR, FARGO, ND USA;USDA ARS, PLANT SCI RES UNIT, RALEIGH, NC 27695 USA;UNIV CALIF DAVIS, DEPT PLANT SCI, DAVIS, CA 95616 USA;UNIV CALIF BERKELEY, DEPT PLANT & MICROBIAL BIOL, BERKELEY, CA 94720 USA;HELMHOLTZ CTR MUNICH, PLANT GENOME & SYST BIOL, NEUHERBERG, GERMANY;TECH UNIV MUNICH, FAC LIFE SCI, WEIHENSTEPHAN, GERMANY;GERMAN CTR INTEGRAT BIODIVERS RES IDIV, LEIPZIG, GERMANY;BAYER R&D SERV LLC, KANSAS CITY, MO USA;KING ABDULLAH UNIV SCI & TECHNOL KAUST, CTR DESERT AGR, BIOL & ENVIRONM SCI & ENGN DIV BESE, THUWAL, SAUDI ARABIA;INT MAIZE & WHEAT IMPROVEMENT CTR CIMMYT, TEXCOCO, MEXICO | L87: AARHUS UNIVERSITY;USDA ARS CEREAL CROPS RES UNIT;UNIVERSITY SYSTEM OF MARYLAND;UNIVERSITY OF ZURICH;UNIVERSITY OF SASKATCHEWAN;UNIVERSITY OF MINNESOTA TWIN CITIES;UNIVERSITY OF MINNESOTA SYSTEM;UNIVERSITY OF MARYLAND COLLEGE PARK;UNIVERSITY OF CALIFORNIA SYSTEM;UNIVERSITY OF CALIFORNIA DAVIS;UNIVERSITY OF CALIFORNIA BERKELEY;UNIVERSITY OF BRITISH COLUMBIA;UNIVERSITY OF BOLOGNA;UNIVERSITY OF ADELAIDE;UNITED STATES DEPARTMENT OF AGRICULTURE (USDA);UK RESEARCH & INNOVATION (UKRI);TEXAS A&M UNIVERSITY SYSTEM;TEXAS A&M UNIVERSITY COLLEGE STATION;TEXAS A&M AGRILIFE RESEARCH;TEL AVIV UNIVERSITY;TECHNICAL UNIVERSITY OF MUNICH;SICHUAN AGRICULTURAL UNIVERSITY;QIAGEN AARHUS AS;PUNJAB AGRICULTURAL UNIVERSITY;NIAB;NANJING AGRICULTURAL UNIVERSITY;LEIBNIZ INSTITUT FUR PFLANZENGENETIK UND KULTURPFLANZENFORSCHUNG;KING ABDULLAH UNIVERSITY OF SCIENCE & TECHNOLOGY;KANSAS STATE UNIVERSITY;JOHN INNES CENTRE;INTERNATIONAL MAIZE & WHEAT IMPROVEMENT CENTER (CIMMYT);INSTITUTO NACIONAL DE INVESTIGACION AGROPECUARIA URUGUAY (INIA);INSTITUTE OF CROP SCIENCES, CAAS;INSTITUTE OF BOTANY, PLANT PHYSIOLOGY & GENETICS;ILAM UNIVERSITY;HELMHOLTZ-CENTER MUNICH - GERMAN RESEARCH CENTER FOR ENVIRONMENTAL HEALTH;HELMHOLTZ ASSOCIATION;GERMAN RESEARCH FOUNDATION (DFG);GERMAN CENTRE FOR INTEGRATIVE BIODIVERSITY RESEARCH (IDIV);GADJAH MADA UNIVERSITY;EGYPTIAN KNOWLEDGE BANK (EKB);EARLHAM INSTITUTE;CSIRO AGRICULTURE & FOOD;COMMONWEALTH SCIENTIFIC & INDUSTRIAL RESEARCH ORGANISATION (CSIRO);CHINESE ACADEMY OF AGRICULTURAL SCIENCES;CGIAR;BOKU UNIVERSITY;BIOTECHNOLOGY AND BIOLOGICAL SCIENCES RESEARCH COUNCIL (BBSRC);BAYER R&D SERV LLC;AGRICULTURAL RESEARCH CENTER - EGYPT;ADELAIDE UNIVERSITY;ACADEMY OF SCIENCES OF REPUBLIC OF TAJIKISTAN; | M87: 2022 | N87: Liu, Deng-Cai:55 | O87: 小麦研究所 | P87: 高被引论文
A88: 82 | B88: WOS:000612692100003 | C88: 10.1016/j.foodhyd.2020.106577 | D88: NA | E88: IN VITRO DIGESTION AND FECAL FERMENTATION BEHAVIORS OF A PECTIC POLYSACCHARIDE FROM OKRA (ABELMOSCHUS ESCULENTUS) AND ITS IMPACTS ON HUMAN GUT MICROBIOTA | F88: WU, DT;NIE, XR;GAN, RY;GUO, H;FU, Y;YUAN, Q;ZHANG, Q;QIN, W | G88: FOOD HYDROCOLLOIDS 114: - MAY 2021 | H88: AGRICULTURAL SCIENCES | I88: 170 | J88: CHINA MAINLAND; | K88: SICHUAN AGR UNIV, COLL FOOD SCI, INST FOOD PROC & SAFETY, YAAN 625014, PEOPLES R CHINA;CHINESE ACAD AGR SCI, INST URBAN AGR, CHENGDU 610213, PEOPLES R CHINA | L88: CHINESE ACADEMY OF AGRICULTURAL SCIENCES;SICHUAN AGRICULTURAL UNIVERSITY;INSTITUTE OF URBAN AGRICULTURE, CAAS; | M88: 2021 | N88: =VLOOKUP(B88,Sheet2!A:O,13,FALSE) -> 吴定涛:1共同通讯作者;Nie, XR (Nie, Xi-Rui):2;Guo, H (Guo, Huan):4;Fu, Y (Fu, Yuan):5;Yuan, Q (Yuan, Qin):6;张清:7;秦文:8共同通讯作者 | O88: =VLOOKUP(C88,Sheet2!B:O,13,FALSE) -> 食品学院 | P88: =VLOOKUP(D88,Sheet2!C:O,13,FALSE) -> 高被引论文
A89: 83 | B89: WOS:000390650500004 | C89: 10.1111/ppl.12483 | D89: MEDLINE:27507681 | E89: METABOLIC PATHWAYS REGULATED BY ABSCISIC ACID, SALICYLIC ACID AND -AMINOBUTYRIC ACID IN ASSOCIATION WITH IMPROVED DROUGHT TOLERANCE IN CREEPING BENTGRASS (AGROSTIS STOLONIFERA) | F89: LI, Z;YU, JJ;PENG, Y;HUANG, BR | G89: PHYSIOLOGIA PLANTARUM 159 (1): 42-58 JAN 2017 | H89: PLANT & ANIMAL SCIENCE | I89: 169 | J89: CHINA MAINLAND;USA; | K89: SICHUAN AGR UNIV, COLL ANIM SCI & TECHNOL, DEPT GRASSLAND SCI, CHENGDU 611130, PEOPLES R CHINA;RUTGERS STATE UNIV, DEPT PLANT BIOL & PATHOL, NEW BRUNSWICK, NJ 08901 USA;NANJING AGR UNIV, COLL AGROGRASSLAND SCI, NANJING 210095, JIANGSU, PEOPLES R CHINA | L89: NANJING AGRICULTURAL UNIVERSITY;SICHUAN AGRICULTURAL UNIVERSITY;RUTGERS UNIVERSITY SYSTEM;RUTGERS UNIVERSITY NEW BRUNSWICK; | M89: 2017 | N89: =VLOOKUP(B89,Sheet2!A:O,13,FALSE) -> 李州:1;彭燕:3 | O89: =VLOOKUP(C89,Sheet2!B:O,13,FALSE) -> 草业科技学院 | P89: =VLOOKUP(D89,Sheet2!C:O,13,FALSE) -> 高被引论文
A90: 84 | B90: WOS:000408261300001 | C90: 10.1038/s41598-017-10026-5 | D90: MEDLINE:28835715 | E90: SHADE INHIBITS LEAF SIZE BY CONTROLLING CELL PROLIFERATION AND ENLARGEMENT IN SOYBEAN | F90: WU, YS;GONG, WZ;YANG, WY | G90: SCIENTIFIC REPORTS 7: - AUG 23 2017 | H90: PLANT & ANIMAL SCIENCE | I90: 167 | J90: CHINA MAINLAND; | K90: SICHUAN AGR UNIV, COLL AGRON, CHENGDU 611130, SICHUAN, PEOPLES R CHINA;MINIST AGR, KEY LAB CROP ECOPHYSIOL & FARMING SYST SOUTHWEST, CHENGDU 611130, SICHUAN, PEOPLES R CHINA;SICHUAN ENGN RES CTR CROP STRIP INTERCROPPING SYS, CHENGDU 611130, SICHUAN, PEOPLES R CHINA;CHONGQING ACAD AGR SCI, CHARACTERIST CROPS RES INST, CHONGQING 402160, PEOPLES R CHINA | L90: NA-CHONGQING ACADEMY OF AGRICULTURAL SCIENCES;SICHUAN ENGN RES CTR CROP STRIP INTERCROPPING SYS;SICHUAN AGRICULTURAL UNIVERSITY;MINIST AGR; | M90: 2017 | N90: =VLOOKUP(B90,Sheet2!A:O,13,FALSE) -> 吴雨珊:1;杨文钰:3通讯作者 | O90: =VLOOKUP(C90,Sheet2!B:O,13,FALSE) -> 农学院 | P90: =VLOOKUP(D90,Sheet2!C:O,13,FALSE) -> 高被引论文
A91: 85 | B91: WOS:000542884000001 | C91: 10.1080/10408398.2020.1773390 | D91: MEDLINE:32496818 | E91: POTENTIAL IMPLICATIONS OF POLYPHENOLS ON AGING CONSIDERING OXIDATIVE STRESS, INFLAMMATION, AUTOPHAGY, AND GUT MICROBIOTA | F91: WU, M;LUO, QY;NIE, RX;YANG, XP;TANG, ZZ;CHEN, H | G91: CRITICAL REVIEWS IN FOOD SCIENCE AND NUTRITION 61 (13): 2175-2193 JUL 20 2021 | H91: AGRICULTURAL SCIENCES | I91: 167 | J91: CHINA MAINLAND; | K91: SICHUAN AGR UNIV, COLL FOOD SCI, PRIVATE BAG 625014, YAAN, SICHUAN, PEOPLES R CHINA | L91: SICHUAN AGRICULTURAL UNIVERSITY; | M91: 2021 | N91: =VLOOKUP(B91,Sheet2!A:O,13,FALSE) -> Wu; M (Wu; Min):1;Luo; QY (Luo; Qingying):2; Nie; RX (Nie; Rongxuan):3; Yang; XP (Yang; Xingpan):4; Tang; ZZ (Tang; Zizhong):5;陈洪:6通讯作者 | O91: =VLOOKUP(C91,Sheet2!B:O,13,FALSE) -> 食品学院 | P91: =VLOOKUP(D91,Sheet2!C:O,13,FALSE) -> 高被引论文
A92: 86 | B92: WOS:000429331300001 | C92: 10.3389/fpls.2018.00426 | D92: MEDLINE:29675031 | E92: EXOGENOUS MELATONIN APPLICATION DELAYS SENESCENCE OF KIWIFRUIT LEAVES BY REGULATING THE ANTIOXIDANT CAPACITY AND BIOSYNTHESIS OF FLAVONOIDS | F92: LIANG, D;SHEN, YQ;NI, ZY;WANG, Q;LEI, Z;XU, NQ;DENG, QX;LIN, LJ;WANG, J;LV, XL;XIA, H | G92: FRONTIERS IN PLANT SCIENCE 9: - APR 5 2018 | H92: PLANT & ANIMAL SCIENCE | I92: 167 | J92: CHINA MAINLAND; | K92: SICHUAN AGR UNIV, COLL HORT, CHENGDU, SICHUAN, PEOPLES R CHINA;SICHUAN AGR UNIV, INST POMOL & OLERICULTURE, CHENGDU, SICHUAN, PEOPLES R CHINA | L92: SICHUAN AGRICULTURAL UNIVERSITY; | M92: 2018 | N92: =VLOOKUP(B92,Sheet2!A:O,13,FALSE) -> 梁东:1;沈妍秋:2;倪知游:3;王琴:4;雷芝:5;徐能琴:6;邓群仙:7;林立金:8;王进:9;吕秀兰:10共同通讯作者;夏惠:11共同通讯作者 | O92: =VLOOKUP(C92,Sheet2!B:O,13,FALSE) -> 园艺学院 | P92: =VLOOKUP(D92,Sheet2!C:O,13,FALSE) -> 高被引论文
A93: 87 | B93: WOS:000620037300017 | C93: 10.1146/annurev-phyto-010820-012908 | D93: MEDLINE:32364825 | E93: USTILAGINOIDEA VIRENS: INSIGHTS INTO AN EMERGING RICE PATHOGEN | F93: SUN, W;FAN, J;FANG, AF;LI, YJ;TARIQJAVEED, M;LI, DY;HU, DW;WANG, WM | G93: ANNUAL REVIEW OF PHYTOPATHOLOGY, VOL 58 58: 363-385 2020 | H93: PLANT & ANIMAL SCIENCE | I93: 166 | J93: CHINA MAINLAND; | K93: JILIN AGR UNIV, COLL PLANT PROTECT, CHANGCHUN 130118, PEOPLES R CHINA;CHINA AGR UNIV, COLL PLANT PROTECT, BEIJING 100193, PEOPLES R CHINA;CHINA AGR UNIV, MINIST AGR, KEY LAB PEST MONITORING & GREEN MANAGEMENT, BEIJING 100193, PEOPLES R CHINA;SICHUAN AGR UNIV, RICE RES INST, STATE KEY LAB CROP GENE EXPLORAT & UTILIZAT SOUTW, CHENGDU 611130, PEOPLES R CHINA;SOUTHWEST UNIV, COLL PLANT PROTECT, CHONGQING 400715, PEOPLES R CHINA;ZHEJIANG UNIV, INST BIOTECHNOL, STATE KEY LAB RICE BIOL, HANGZHOU 310058, PEOPLES R CHINA | L93: CHINA AGRICULTURAL UNIVERSITY;ZHEJIANG UNIVERSITY;SOUTHWEST UNIVERSITY - CHINA;SICHUAN AGRICULTURAL UNIVERSITY;JILIN AGRICULTURAL UNIVERSITY; | M93: 2020 | N93: =VLOOKUP(B93,Sheet2!A:O,13,FALSE) -> Fan, J (Fan, Jing):2;王文明:8 | O93: =VLOOKUP(C93,Sheet2!B:O,13,FALSE) -> 水稻研究所 | P93: =VLOOKUP(D93,Sheet2!C:O,13,FALSE) -> 高被引论文
A94: 88 | B94: WOS:000936447000001 | C94: 10.1111/pbi.14024 | D94: MEDLINE:36752420 | E94: A NOVEL R2R3-MYB TRANSCRIPTION FACTOR FAMYB5 POSITIVELY REGULATES ANTHOCYANIN AND PROANTHOCYANIDIN BIOSYNTHESIS IN CULTIVATED STRAWBERRIES (FRAGARIA X ANANASSA) | F94: JIANG, LY;YUE, ML;LIU, YQ;ZHANG, NT;LIN, YX;ZHANG, YT;WANG, Y;LI, MY;LUO, Y;ZHANG, Y;WANG, XR;CHEN, Q;TANG, HR | G94: PLANT BIOTECHNOLOGY JOURNAL 21 (6): 1140-1158 JUN 2023 | H94: PLANT & ANIMAL SCIENCE | I94: 165 | J94: CHINA MAINLAND; | K94: SICHUAN AGR UNIV, COLL HORT, CHENGDU, SICHUAN, PEOPLES R CHINA;SICHUAN AGR UNIV, INST POMOL & OLERICULTURE, CHENGDU, SICHUAN, PEOPLES R CHINA | L94: SICHUAN AGRICULTURAL UNIVERSITY; | M94: 2023 | N94: =VLOOKUP(B94,Sheet2!A:O,13,FALSE) -> 江雷雨:1;岳茂兰:2;刘勇强:3;张娜婷:4;林源秀:5;张云婷:6;王燕:7;李梦瑶:8;罗娅:9;张勇:10;王小蓉:11;陈清:12共同通讯作者;汤浩茹:13共同通讯作者 | O94: =VLOOKUP(C94,Sheet2!B:O,13,FALSE) -> 园艺学院 | P94: =VLOOKUP(D94,Sheet2!C:O,13,FALSE) -> 高被引论文
A95: 89 | B95: WOS:000714449200002 | C95: 10.1016/j.rser.2021.111779 | D95: NA | E95: POLICY SPILLOVER EFFECT AND ACTION MECHANISM FOR ENVIRONMENTAL RIGHTS TRADING ON GREEN INNOVATION: EVIDENCE FROM CHINAS CARBON EMISSIONS TRADING POLICY | F95: LIU, YQ;LIU, S;SHAO, XY;HE, YQ | G95: RENEWABLE & SUSTAINABLE ENERGY REVIEWS 153: - JAN 2022 | H95: ENGINEERING | I95: 165 | J95: CHINA MAINLAND; | K95: SICHUAN AGR UNIV, COLL MANAGEMENT, CHENGDU 611130, PEOPLES R CHINA | L95: SICHUAN AGRICULTURAL UNIVERSITY; | M95: 2022 | N95: =VLOOKUP(B95,Sheet2!A:O,13,FALSE) -> 刘云强:1;Liu, S (Liu, Sha):2;Shao, XY (Shao, Xiaoyu):3;He, YQ (He, Yanqiu):4通讯作者 | O95: =VLOOKUP(C95,Sheet2!B:O,13,FALSE) -> 管理学院 | P95: =VLOOKUP(D95,Sheet2!C:O,13,FALSE) -> 高被引论文
A96: 90 | B96: WOS:000874774700001 | C96: 10.1016/j.redox.2022.102441 | D96: MEDLINE:35985164 | E96: MO3SE4 NANOPARTICLE WITH ROS SCAVENGING AND MULTI-ENZYME ACTIVITY FOR THE TREATMENT OF DSS-INDUCED COLITIS IN MICE | F96: GUO, HR;GUO, H;XIE, Y;CHEN, YY;LU, CF;YANG, ZP;ZHU, YQ;OUYANG, YJ;ZHANG, Y;WANG, XX | G96: REDOX BIOLOGY 56: - OCT 2022 | H96: BIOLOGY & BIOCHEMISTRY | I96: 165 | J96: CHINA MAINLAND; | K96: SICHUAN AGR UNIV, COLL VET MED, CHENGDU 611130, SICHUAN, PEOPLES R CHINA;SICHUAN AGR UNIV, COLL SCI, CHENGDU 611130, SICHUAN, PEOPLES R CHINA;SICHUAN AGR UNIV, COLL AGRON, CHENGDU 611130, SICHUAN, PEOPLES R CHINA;SICHUAN AGR UNIV, RICE RES INST, STATE KEY LAB HYBRID RICE, CHENGDU 611130, PEOPLES R CHINA | L96: SICHUAN AGRICULTURAL UNIVERSITY; | M96: 2022 | N96: =VLOOKUP(B96,Sheet2!A:O,13,FALSE) -> 郭红瑞:1 ; Guo, H (Guo, Hai);2 ; Xie, Y (Xie, Yue):3 ; Chen, YY (Chen, Yinyin):4 ; Lu, CF (Lu, Changfang):5; Yang, ZP (Yang, Zhouping):6; Zhu, YQ (Zhu, Yanqiu):7 ; 欧阳萍:8; Zhang, Y (Zhang, Yu):9 ; 王显祥:10通讯作者 | O96: =VLOOKUP(C96,Sheet2!B:O,13,FALSE) -> 理学院 | P96: =VLOOKUP(D96,Sheet2!C:O,13,FALSE) -> 高被引论文
A97: 91 | B97: WOS:000466797100031 | C97: 10.1111/nph.15678 | D97: MEDLINE:30632163 | E97: OSA-MIR398B BOOSTS H2O2 PRODUCTION AND RICE BLAST DISEASE-RESISTANCE VIA MULTIPLE SUPEROXIDE DISMUTASES | F97: LI, Y;CAO, XL;ZHU, Y;YANG, XM;ZHANG, KN;XIAO, ZY;WANG, H;ZHAO, JH;ZHANG, LL;LI, GB;ZHENG, YP;FAN, J;WANG, J;CHEN, XQ;WU, XJ;ZHAO, JQ;DONG, OX;CHEN, XW;CHERN, M;WANG, WM | G97: NEW PHYTOLOGIST 222 (3): 1507-1522 MAY 2019 | H97: PLANT & ANIMAL SCIENCE | I97: 157 | J97: CHINA MAINLAND;USA; | K97: SICHUAN AGR UNIV, RICE RES INST, CHENGDU 611131, SICHUAN, PEOPLES R CHINA;SICHUAN AGR UNIV, KEY LAB MAJOR CROP DIS, CHENGDU 611131, SICHUAN, PEOPLES R CHINA;SICHUAN AGR UNIV, COLLABORAT INNOVAT CTR HYBRID RICE YANGTZE RIVER, CHENGDU 611131, SICHUAN, PEOPLES R CHINA;UNIV CALIF DAVIS, DEPT PLANT PATHOL, DAVIS, CA 95616 USA | L97: SICHUAN AGRICULTURAL UNIVERSITY;UNIVERSITY OF CALIFORNIA SYSTEM;UNIVERSITY OF CALIFORNIA DAVIS; | M97: 2019 | N97: =VLOOKUP(B97,Sheet2!A:O,13,FALSE) -> 李燕:1共同通讯作者; Cao; XL (Cao; Xiao-Long):2 ; Zhu; Y (Zhu; Yong):3 ; Yang; XM (Yang; Xue-Mei):4 ; Zhang; KN (Zhang; Kai-Ni):5 ; Xiao; ZY (Xiao; Zhi-Yuan) :6; Wang; H (Wang; He):7 ; Zhao; JH (Zhao; Jing-Hao):8 ; Zhang; LL (Zhang; Ling-Li):9 ; Li; GB (Li; Guo-Bang):10 ; Zheng; YP (Zheng; Ya-Ping):11 ; Fan; J (Fan; Jing):12 ; Wang; J (Wang; Jing):13 ;陈晓琼:14 ;吴先军:15 ; Zhao; JQ (Zhao; Ji-Qun):16; 陈学伟:18 ;王文明:20共同通讯作者 | O97: =VLOOKUP(C97,Sheet2!B:O,13,FALSE) -> 水稻研究所 | P97: =VLOOKUP(D97,Sheet2!C:O,13,FALSE) -> 高被引论文
A98: 92 | B98: WOS:000989763100001 | C98: 10.1016/j.carbpol.2023.120938 | D98: MEDLINE:37173034 | E98: PHOTODYNAMIC ANTIBACTERIAL CHITOSAN/NITROGEN-DOPED CARBON DOTS COMPOSITE PACKAGING FILM FOR FOOD PRESERVATION APPLICATIONS | F98: CHEN, SJ;ZENG, QY;TAN, XY;YE, MY;ZHANG, YA;ZOU, LK;LIU, SL;YANG, Y;LIU, AP;HE, L;HU, KD | G98: CARBOHYDRATE POLYMERS 314: - AUG 15 2023 | H98: CHEMISTRY | I98: 157 | J98: CHINA MAINLAND; | K98: SICHUAN AGR UNIV, COLL FOOD SCI, YAAN 625014, SICHUAN, PEOPLES R CHINA;SICHUAN AGR UNIV, COLL RESOURCES, CHENGDU 611130, SICHUAN, PEOPLES R CHINA | L98: SICHUAN AGRICULTURAL UNIVERSITY; | M98: 2023 | N98: =VLOOKUP(B98,Sheet2!A:O,13,FALSE) -> Chen, SJ (Chen, Shujuan):1通讯作者; Zeng, QY (Zeng, Qiuyan):2; Tan, XY (Tan, Xinyu):3; Ye, MY (Ye, Mengyi):4; Zhang, YA (Zhang, Yanan):5; Zou, LK (Zou, Likou):6; Liu, SL (Liu, Shuliang):7; Yang, Y (Yang, Yong):8; Liu, AP (Liu, Aiping):9; He, L (He, Li):10; Hu, KD (Hu, Kaidi) :11 | O98: =VLOOKUP(C98,Sheet2!B:O,13,FALSE) -> 食品学院 | P98: =VLOOKUP(D98,Sheet2!C:O,13,FALSE) -> 高被引论文
A99: 93 | B99: WOS:000698653000022 | C99: 10.1016/j.jretconser.2021.102672 | D99: NA | E99: HOW THE DESTINATION SHORT VIDEO AFFECTS THE CUSTOMERS ATTITUDE: THE ROLE OF NARRATIVE TRANSPORTATION | F99: CAO, XY;QU, ZR;LIU, Y;HU, JJ | G99: JOURNAL OF RETAILING AND CONSUMER SERVICES 62: - SEP 2021 | H99: ECONOMICS & BUSINESS | I99: 156 | J99: CHINA MAINLAND; | K99: SICHUAN AGR UNIV, BUSINESS & TOURISM SCH, DUJIANGYAN, SICHUAN, PEOPLES R CHINA | L99: SICHUAN AGRICULTURAL UNIVERSITY; | M99: 2021 | N99: =VLOOKUP(B99,Sheet2!A:O,13,FALSE) -> Cao, XY (Cao, Xinyue):1; Qu, ZR (Qu, Zhirui):2;刘燕:3通讯作者;胡家镜:4 | O99: =VLOOKUP(C99,Sheet2!B:O,13,FALSE) -> 商旅学院 | P99: =VLOOKUP(D99,Sheet2!C:O,13,FALSE) -> 高被引论文
... A121: 115 | B121: WOS:000769722500001 | C121: 10.3390/jof8020205 | D121: MEDLINE:35205959 | E121: ENDOPHYTIC FUNGI: AN EFFECTIVE ALTERNATIVE SOURCE OF PLANT-DERIVED BIOACTIVE COMPOUNDS FOR PHARMACOLOGICAL STUDIES | F121: WEN, J;OKYERE, SK;WANG, S;WANG, JC;XIE, L;RAN, YA;HU, YC | G121: JOURNAL OF FUNGI 8 (2): - FEB 2022 | H121: PLANT & ANIMAL SCIENCE | I121: 123 | J121: CHINA MAINLAND; | K121: SICHUAN AGR UNIV, COLL VET MED, KEY LAB ANIM DIS & ENVIRONM HAZARDS SICHUAN PROV, CHENGDU 611130, PEOPLES R CHINA;SICHUAN AGR UNIV, KEY LAB ANIM DIS & HUMAN HLTH SICHUAN PROV, CHENGDU 611130, PEOPLES R CHINA;NEW RUIPENG PET HEALTHCARE GRP CO LTD, SHENZHEN 518000, PEOPLES R CHINA | L121: NA-KEY LABORATORY OF ANIMAL DISEASE & HUMAN HEALTH OF SICHUAN PROVINCE;SICHUAN AGRICULTURAL UNIVERSITY;NEW RUIPENG PET HEALTHCARE GRP CO LTD; | M121: 2022 | N121: =VLOOKUP(B121,Sheet2!A:O,13,FALSE) -> Wen, J (Wen, Juan):1;Okyere, SK (Okyere, Samuel Kumi):2; Wang, S (Wang, Shu):3;Wang, JC (Wang, Jianchen):4;Xie, L (Xie, Lei):5;Ran, YA (Ran, Yinan):6;胡延春:7通讯作者 | O121: =VLOOKUP(C121,Sheet2!B:O,13,FALSE) -> 动物医学院 | P121: =VLOOKUP(D121,Sheet2!C:O,13,FALSE) -> 高被引论文
A122: 116 | B122: WOS:000593729800001 | C122: 10.3390/plants9111575 | D122: MEDLINE:33203059 | E122: EFFECT OF CADMIUM TOXICITY ON GROWTH, OXIDATIVE DAMAGE, ANTIOXIDANT DEFENSE SYSTEM AND CADMIUM ACCUMULATION IN TWO SORGHUM CULTIVARS | F122: HASSAN, MJ;RAZA, MA;REHMAN, SU;ANSAR, M;GITARI, H;KHAN, I;WAJID, M;AHMED, M;SHAH, GA;PENG, Y;LI, Z | G122: PLANTS-BASEL 9 (11): - NOV 2020 | H122: PLANT & ANIMAL SCIENCE | I122: 122 | J122: CHINA MAINLAND;SWEDEN;PAKISTAN;KENYA; | K122: SICHUAN AGR UNIV, ANIM SCI & TECHNOL COLL, DEPT GRASSLAND SCI, CHENGDU 611130, PEOPLES R CHINA;SICHUAN AGR UNIV, COLL AGRON, CHENGDU 611130, PEOPLES R CHINA;PMAS ARID AGR UNIV, DEPT AGRON, RAWALPINDI 46000, PAKISTAN;KENYATTA UNIV, SCH AGR & ENTERPRISE DEV, DEPT AGR SCI & TECHNOL, POB 43844-00100, NAIROBI, KENYA;HUAZHONG AGR UNIV, COLL PLANT SCI & TECHNOL, WUHAN 430070, PEOPLES R CHINA;SWEDISH UNIV AGR SCI, DEPT AGR RES NORTHERN SWEDEN, S-90183 UMEA, SWEDEN | L122: ARID AGRICULTURE UNIVERSITY;SWEDISH UNIVERSITY OF AGRICULTURAL SCIENCES;SICHUAN AGRICULTURAL UNIVERSITY;KENYATTA UNIVERSITY;HUAZHONG AGRICULTURAL UNIVERSITY; | M122: 2020 | N122: Jawad Hassan, Muhammad:1; Ali Raza, Muhammad:2;Khan, Imran:6; Peng, Yan:10; Li, Zhou 11&通讯作者; | O122: 动物科技学院 | P122: 高被引论文
A123: 117 | B123: WOS:000772589500001 | C123: 10.1111/tpj.15729 | D123: MEDLINE:35277905 | E123: DIVERSE ROLES OF MYB TRANSCRIPTION FACTORS IN REGULATING SECONDARY METABOLITE BIOSYNTHESIS, SHOOT DEVELOPMENT, AND STRESS RESPONSES IN TEA PLANTS (CAMELLIA SINENSIS) | F123: LI, PH;XIA, EH;FU, JM;XU, YJ;ZHAO, XC;TONG, W;TANG, Q;TADEGE, M;FERNIE, AR;ZHAO, J | G123: PLANT JOURNAL 110 (4): 1144-1165 MAY 2022 | H123: PLANT & ANIMAL SCIENCE | I123: 121 | J123: CHINA MAINLAND;USA;GERMANY (FED REP GER); | K123: ANHUI AGR UNIV, STATE KEY LAB TEA PLANT BIOL & UTILIZAT, HEFEI 230036, PEOPLES R CHINA;SICHUAN AGR UNIV, COLL HORT, CHENGDU 611130, PEOPLES R CHINA;OKLAHOMA STATE UNIV, DEPT PLANT & SOIL SCI, INST AGR BIOSCI, 3210 SAM NOBLE PKWY, ARDMORE, OK 73401 USA;MAX PLANCK INST MOL PLANT PHYSIOL, MUHLENBERG 1, D-14476 POTSDAM, GERMANY | L123: ANHUI AGRICULTURAL UNIVERSITY;SICHUAN AGRICULTURAL UNIVERSITY;OKLAHOMA STATE UNIVERSITY SYSTEM;OKLAHOMA STATE UNIVERSITY - STILLWATER;MAX PLANCK SOCIETY; | M123: 2022 | N123: =VLOOKUP(B123,Sheet2!A:O,13,FALSE) -> Tang, Q (Tang, Qian):7 | O123: =VLOOKUP(C123,Sheet2!B:O,13,FALSE) -> 园艺学院 | P123: =VLOOKUP(D123,Sheet2!C:O,13,FALSE) -> 高被引论文
A124: 118 | B124: WOS:000781100800002 | C124: 10.1016/j.ecolind.2022.108710 | D124: NA | E124: LAND USE OPTIMIZATION OF RURAL PRODUCTION-LIVING-ECOLOGICAL SPACE AT DIFFERENT SCALES BASED ON THE BP-ANN AND CLUE-S MODELS | F124: LIAO, GT;HE, P;GAO, XS;LIN, ZY;HUANG, CY;ZHOU, W;DENG, OP;XU, CH;DENG, LJ | G124: ECOLOGICAL INDICATORS 137: - APR 2022 | H124: ENVIRONMENT/ECOLOGY | I124: 120 | J124: CHINA MAINLAND; | K124: CHENGDU UNIV INFORMAT TECHNOL, COLL RESOURCES & ENVIRONM, CHENGDU 610225, PEOPLES R CHINA;SICHUAN ACAD AGR SCI, AGR INFORMAT & RURAL ECON RES INST, CHENGDU 610066, PEOPLES R CHINA;SICHUAN AGR UNIV, COLL RESOURCE, CHENGDU 611130, PEOPLES R CHINA;SICHUAN AGR UNIV, COLL ENVIRONM SCI, CHENGDU 611130, PEOPLES R CHINA | L124: CHENGDU UNIVERSITY OF INFORMATION TECHNOLOGY;SICHUAN AGRICULTURAL UNIVERSITY;SICHUAN ACADEMY OF AGRICULTURAL SCIENCES (SAAS); | M124: 2022 | N124: =VLOOKUP(B124,Sheet2!A:O,13,FALSE) -> He, P (He, Peng):2;Gao, XS (Gao, Xuesong):3;Lin, ZY (Lin, Zhengyu):4;Huang, CY (Huang, Chengyi):5;周伟:6;邓欧平:7;邓良基:9通讯作者 | O124: =VLOOKUP(C124,Sheet2!B:O,13,FALSE) -> 资源学院 | P124: =VLOOKUP(D124,Sheet2!C:O,13,FALSE) -> 高被引论文
A125: 119 | B125: WOS:000895300800004 | C125: 10.1016/j.cej.2022.140277 | D125: NA | E125: HIERARCHICALLY FLOWER-LIKE STRUCTURE ASSEMBLED WITH POROUS NANOSHEET-SUPPORTED MXENE FOR ULTRATHIN ELECTROMAGNETIC WAVE ABSORPTION | F125: SUN, CH;LI, QY;JIA, ZR;WU, GL;YIN, PF | G125: CHEMICAL ENGINEERING JOURNAL 454: - PART 3 FEB 15 2023 | H125: ENGINEERING | I125: 120 | J125: CHINA MAINLAND; | K125: SICHUAN AGR UNIV, COLL SCI, YAAN 625014, PEOPLES R CHINA;JILIN UNIV, COLL EARTH SCI, CHANGCHUN 130021, PEOPLES R CHINA;QINGDAO UNIV, INST MAT ENERGY & ENVIRONM, COLL MAT SCI & ENGN, STATE KEY LAB BIOFIBERS & ECOTEXT, QINGDAO 266071, PEOPLES R CHINA;QINGDAO UNIV, COLL CHEM & CHEM ENGN, QINGDAO 266071, SHANDONG, PEOPLES R CHINA | L125: JILIN UNIVERSITY;SICHUAN AGRICULTURAL UNIVERSITY;QINGDAO UNIVERSITY; | M125: 2023 | N125: =VLOOKUP(B125,Sheet2!A:O,13,FALSE) -> Sun, CH (Sun, Chunhua):1 ;殷鹏飞:5共同通讯作者 | O125: =VLOOKUP(C125,Sheet2!B:O,13,FALSE) -> 理学院 | P125: =VLOOKUP(D125,Sheet2!C:O,13,FALSE) -> 高被引论文
A126: 120 | B126: WOS:000953239600001 | C126: 10.1111/gcb.16676 | D126: MEDLINE:36934319 | E126: MICROBIAL NECROMASS UNDER GLOBAL CHANGE AND IMPLICATIONS FOR SOIL ORGANIC MATTER | F126: HU, JX;DU, ML;CHEN, J;TIE, LH;ZHOU, SX;BUCKERIDGE, KM;CORNELISSEN, JHC;HUANG, CD;KUZYAKOV, Y | G126: GLOBAL CHANGE BIOLOGY 29 (12): 3503-3515 JUN 2023 | H126: ENVIRONMENT/ECOLOGY | I126: 119 | J126: CHINA MAINLAND;RUSSIA;NETHERLANDS;LUXEMBOURG;GERMANY (FED REP GER); | K126: SICHUAN AGR UNIV, COLL FORESTRY, CHENGDU, PEOPLES R CHINA;VRIJE UNIV AMSTERDAM, AMSTERDAM INST LIFE & ENVIRONM A LIFE, SYST ECOL SECT, AMSTERDAM, NETHERLANDS;SICHUAN AGR UNIV, COLL FORESTRY, FORESTRY ECOL ENGN UPPER REACHES YANGTZE RIVER KEY, CHENGDU, PEOPLES R CHINA;GUIZHOU UNIV, INST FOREST RESOURCES & ENVIRONM, RES CTR GUIZHOU PROV, GUIYANG, PEOPLES R CHINA;LUXEMBOURG INST SCI & TECHNOL, BELVAUX, LUXEMBOURG;UNIV GOETTINGEN, DEPT SOIL SCI TEMPERATE ECOSYST, DEPT AGR SOIL SCI, GOTTINGEN, GERMANY;RUDN UNIV, PEOPLES FRIENDSHIP UNIV RUSSIA, MOSCOW, RUSSIA | L126: GUIZHOU UNIVERSITY;VRIJE UNIVERSITEIT AMSTERDAM;UNIVERSITY OF GOTTINGEN;SICHUAN AGRICULTURAL UNIVERSITY;PEOPLES FRIENDSHIP UNIVERSITY OF RUSSIA;LUXEMBOURG INSTITUTE OF SCIENCE & TECHNOLOGY; | M126: 2023 | N126: =VLOOKUP(B126,Sheet2!A:O,13,FALSE) -> 胡峻嶍:1;Du, ML (Du, Meilin):2; Chen, J (Chen, Jun):3;周世兴:5;黄从德:8通讯作者 | O126: =VLOOKUP(C126,Sheet2!B:O,13,FALSE) -> 林学院 | P126: =VLOOKUP(D126,Sheet2!C:O,13,FALSE) -> 高被引论文
A127: 121 | B127: WOS:000838020100009 | C127: 10.1016/j.envpol.2022.119718 | D127: MEDLINE:35809716 | E127: MICROPLASTICS IN PLANT-SOIL ECOSYSTEMS: A META-ANALYSIS | F127: ZHANG, YY;CAI, C;GU, YF;SHI, YS;GAO, XS | G127: ENVIRONMENTAL POLLUTION 308: - SEP 1 2022 | H127: ENVIRONMENT/ECOLOGY | I127: 119 | J127: CHINA MAINLAND; | K127: SICHUAN AGR UNIV, COLL RESOURCES, CHENGDU 611130, PEOPLES R CHINA;MINIST NAT RESOURCES, KEY LAB INVEST & MONITORING PROTECT & UTILIZAT CUL, WUHAN, PEOPLES R CHINA;TONGJI UNIV, SCH ENVIRONM SCI & ENGN, STATE KEY LAB POLLUT CONTROL & RESOURCES REUSE, SHANGHAI 200092, PEOPLES R CHINA;SICHUAN INST GEOL ENGN, CHENGDU 610072, PEOPLES R CHINA | L127: MINISTRY OF NATURAL RESOURCES OF THE PEOPLE&APOS;S REPUBLIC OF CHINA;TONGJI UNIVERSITY;SICHUAN INST GEOL ENGN;SICHUAN AGRICULTURAL UNIVERSITY; | M127: 2022 | N127: =VLOOKUP(B127,Sheet2!A:O,13,FALSE) -> 张艳艳:1通讯作者;Gu, YF (Gu, Yunfu):3;高雪松:5 | O127: =VLOOKUP(C127,Sheet2!B:O,13,FALSE) -> 资源学院 | P127: =VLOOKUP(D127,Sheet2!C:O,13,FALSE) -> 高被引论文
A128: 122 | B128: WOS:000793708800008 | C128: 10.1016/j.ijhm.2022.103220 | D128: NA | E128: DANCING WITH SERVICE ROBOTS: THE IMPACTS OF EMPLOYEE-ROBOT COLLABORATION ON HOTEL EMPLOYEES JOB CRAFTING | F128: SONG, Y;ZHANG, MY;HU, JJ;CAO, XP | G128: INTERNATIONAL JOURNAL OF HOSPITALITY MANAGEMENT 103: - MAY 2022 | H128: SOCIAL SCIENCES, GENERAL | I128: 119 | J128: CHINA MAINLAND; | K128: SICHUAN AGR UNIV, BUSINESS & TOURISM SCH, CHENGDU, PEOPLES R CHINA;SOUTHWESTERN UNIV FINANCE & ECON, SCH BUSINESS ADM, CHENGDU, PEOPLES R CHINA | L128: SICHUAN AGRICULTURAL UNIVERSITY;SOUTHWESTERN UNIVERSITY OF FINANCE & ECONOMICS - CHINA; | M128: 2022 | N128: =VLOOKUP(B128,Sheet2!A:O,13,FALSE) -> 宋悦:1;胡家镜:3通讯作者;曹兴平:4 | O128: =VLOOKUP(C128,Sheet2!B:O,13,FALSE) -> 商旅学院 | P128: =VLOOKUP(D128,Sheet2!C:O,13,FALSE) -> 高被引论文
A129: 123 | B129: WOS:000806872300003 | C129: 10.1016/j.cej.2022.136975 | D129: NA | E129: STRUCTURE REGULATION IN N-DOPING BICONICAL CARBON FRAME DECORATED WITH COFE2O4 AND (FE,NI) FOR BROADBAND MICROWAVE ABSORPTION | F129: YIN, PF;WU, GL;TANG, YT;LIU, SJ;ZHANG, Y;BU, GX;DAI, JW;ZHAO, YP;LIU, YW | G129: CHEMICAL ENGINEERING JOURNAL 446: - PART 2 OCT 15 2022 | H129: ENGINEERING | I129: 118 | J129: CHINA MAINLAND; | K129: SICHUAN AGR UNIV, COLL SCI, YAAN 625014, PEOPLES R CHINA;QINGDAO UNIV, INST MAT ENERGY & ENVIRONM, COLL MAT SCI & ENGN, STATE KEY LAB BIOFIBERS & ECOTEXT, QINGDAO 266071, PEOPLES R CHINA;SICHUAN AGR UNIV, COLL LIFE SCI, YAAN 625014, PEOPLES R CHINA;SICHUAN AGR UNIV, COLL MECH & ELECT ENGN, YAAN 625014, PEOPLES R CHINA;SICHUAN AGR UNIV, COLL FOOD SCI, YAAN 625014, PEOPLES R CHINA | L129: QINGDAO UNIVERSITY;SICHUAN AGRICULTURAL UNIVERSITY; | M129: 2022 | N129: =VLOOKUP(B129,Sheet2!A:O,13,FALSE) -> 殷鹏飞:1共同通讯作者; Tang, YT (Tang, Yuting):3共同通讯作者 | O129: =VLOOKUP(C129,Sheet2!B:O,13,FALSE) -> 理学院 | P129: =VLOOKUP(D129,Sheet2!C:O,13,FALSE) -> 高被引论文
A130: 124 | B130: WOS:000792617100003 | C130: 10.1016/j.landusepol.2022.106117 | D130: NA | E130: EMPIRICAL INVESTIGATION OF URBAN LAND USE EFFICIENCY AND INFLUENCING FACTORS OF THE YELLOW RIVER BASIN CHINESE CITIES | F130: XUE, D;YUE, L;AHMAD, F;DRAZ, MU;CHANDIO, AA;AHMAD, M;AMIN, W | G130: LAND USE POLICY 117: - JUN 2022 | H130: SOCIAL SCIENCES, GENERAL | I130: 116 | J130: CANADA;SAUDI ARABIA;CHINA MAINLAND; | K130: CHANGZHOU UNIV, SCH BUSINESS, CHANGZHOU 213164, JIANGSU, PEOPLES R CHINA;LANZHOU UNIV, SCH ECON, LANZHOU 730000, GANSU, PEOPLES R CHINA;TORONTO SCH MANAGEMENT, TORONTO, ON M5G 1K2, CANADA;SICHUAN AGR UNIV, COLL ECON, CHENGDU 611130, PEOPLES R CHINA;ZHEJIANG UNIV, SCH ECON, HANGZHOU 310058, PEOPLES R CHINA;PRINCE SATTAM BIN ABDULAZIZ UNIV SAUDIA ARABIA, COLL BUSINESS ADM, DEPT FINANCE, AL KHARJ, SAUDI ARABIA | L130: CHANGZHOU UNIVERSITY;ZHEJIANG UNIVERSITY;TORONTO SCH MANAGEMENT;SICHUAN AGRICULTURAL UNIVERSITY;PRINCE SATTAM BIN ABDULAZIZ UNIV SAUDIA ARABIA;LANZHOU UNIVERSITY; | M130: 2022 | N130: =VLOOKUP(B130,Sheet2!A:O,13,FALSE) -> Chandio, AA:5 | O130: =VLOOKUP(C130,Sheet2!B:O,13,FALSE) -> 经济学院 | P130: =VLOOKUP(D130,Sheet2!C:O,13,FALSE) -> 高被引论文
A131: 125 | B131: WOS:000862983100004 | C131: 10.1016/j.renene.2022.08.045 | D131: NA | E131: INTERNATIONAL TRADE DIVERSIFICATION, GREEN INNOVATION, AND CONSUMPTION-BASED CARBON EMISSIONS: THE ROLE OF RENEWABLE ENERGY FOR SUSTAINABLE DEVELOPMENT IN BRICST COUNTRIES | F131: MENG, Y;WU, HY;WANG, YC;DUAN, YY | G131: RENEWABLE ENERGY 198: 1243-1253 OCT 2022 | H131: ENGINEERING | I131: 113 | J131: CHINA MAINLAND; | K131: SICHUAN AGR UNIV, SCH BUSINESS & TOURISM, CHENGDU 611830, PEOPLES R CHINA;SICHUAN AGR UNIV, SCH MANAGEMENT, CHENGDU 611830, PEOPLES R CHINA;SOUTHWEST UNIV SCI & TECHNOL, SCH LIFE SCI & ENGN, MIANYANG 621010, SICHUAN, PEOPLES R CHINA | L131: SICHUAN AGRICULTURAL UNIVERSITY;SOUTHWEST UNIVERSITY OF SCIENCE & TECHNOLOGY - CHINA; | M131: 2022 | N131: Meng, Yue:1;Wu, Haoyue:2; Wang, Yunchen:3; Duan, Yinying:4&通讯 | O131: 商旅学院 | P131: 高被引论文
...

Sheet Sheet2
A1: Accession Number | B1: DOI | C1: PMID | D1: Article Name | E1: Authors | F1: Source | G1: Research Field | H1: Times Cited | I1: Countries | J1: Addresses | K1: Institutions | L1: Publication Date | M1: 我校作者及排序 | N1: 二级机构 | O1: 备注
A2: WOS:000367818800006 | B2: 10.1016/j.molp.2015.08.010 | C2: MEDLINE:26343970 | D2: TWO FACES OF ONE SEED: HORMONAL REGULATION OF DORMANCY AND GERMINATION | E2: SHU, K;LIU, XD;XIE, Q;HE, ZH | F2: MOLECULAR PLANT 9 (1): 34-45 JAN 4 2016 | G2: PLANT & ANIMAL SCIENCE | H2: 762 | I2: CHINA MAINLAND; | J2: CHINESE ACAD SCI, INST GENET & DEV BIOL, STATE KEY LAB PLANT GENOM, BEIJING 100101, PEOPLES R CHINA;CHINESE ACAD SCI, INST PLANT PHYSIOL & ECOL, NATL KEY LAB PLANT MOL GENET, SHANGHAI 200032, PEOPLES R CHINA;SICHUAN AGR UNIV, INST ECOL AGR, KEY LAB CROP ECOPHYSIOL & FARMING SYST SOUTHWEST, CHENGDU 611130, PEOPLES R CHINA;XINJIANG AGR UNIV, COLL AGRON, URUMQI 830052, XINJIANG, PEOPLES R CHINA | K2: CHINESE ACADEMY OF SCIENCES;XINJIANG AGRICULTURAL UNIVERSITY;SICHUAN AGRICULTURAL UNIVERSITY;INSTITUTE OF GENETICS & DEVELOPMENTAL BIOLOGY, CAS; | L2: 2016 | M2: 舒凯:1通讯作者 | N2: 农学院 | O2: 高被引论文
A3: WOS:000569596500001 | B3: 10.3390/ijms21176356 | C3: MEDLINE:32887215 | D3: SHORT-CHAIN FATTY ACIDS AND THEIR ASSOCIATION WITH SIGNALLING PATHWAYS IN INFLAMMATION, GLUCOSE AND LIPID METABOLISM | E3: HE, J;ZHANG, PW;SHEN, LY;NIU, LL;TAN, Y;CHEN, L;ZHAO, Y;BAI, L;HAO, XX;LI, XW;ZHANG, SH;ZHU, L | F3: INTERNATIONAL JOURNAL OF MOLECULAR SCIENCES 21 (17): - SEP 2020 | G3: CHEMISTRY | H3: 739 | I3: CHINA MAINLAND; | J3: SICHUAN AGR UNIV, COLL ANIM SCI & TECHNOL, CHENGDU 611130, PEOPLES R CHINA;SICHUAN AGR UNIV, FARM ANIM GENET RESOURCE EXPLORAT & INNOVAT KEY L, CHENGDU 611130, PEOPLES R CHINA;GUIZHOU ACAD AGR SCI, INST ANIM HUSB & VET, GUIYANG 550005, PEOPLES R CHINA | K3: GUIZHOU ACADEMY OF AGRICULTURAL SCIENCES;SICHUAN AGRICULTURAL UNIVERSITY; | L3: 2020 | M3: 何劲:1;张培文:2;沈林園:3; 牛丽莉:4;谭娅:5;陈蕾:6;赵叶:7;白林:8;郝小霞:9;李学伟:10;张顺华:11共同通讯作者;朱砺:12共同通讯作者 | N3: 动物科技学院 | O3: 高被引论文
A4: WOS:000389917900111 | B4: 10.3390/molecules21101374 | C4: NA | D4: AN OVERVIEW OF PLANT PHENOLIC COMPOUNDS AND THEIR IMPORTANCE IN HUMAN NUTRITION AND MANAGEMENT OF TYPE 2 DIABETES | E4: LIN, DR;XIAO, MS;ZHAO, JJ;LI, ZH;XING, BS;LI, XD;KONG, MZ;LI, LY;ZHANG, Q;LIU, YW;CHEN, H;QIN, W;WU, HJ;CHEN, SY | F4: MOLECULES 21 (10): - OCT 2016 | G4: CHEMISTRY | H4: 620 | I4: CHINA MAINLAND;USA; | J4: SICHUAN AGR UNIV, COLL FOOD SCI, 46 XINKANG RD, YAAN 625014, SICHUAN, PEOPLES R CHINA;UNIV MASSACHUSETTS, STOCKBRIDGE SCH AGR, AMHERST, MA 01003 USA | K4: SICHUAN AGRICULTURAL UNIVERSITY;UNIVERSITY OF MASSACHUSETTS SYSTEM;UNIVERSITY OF MASSACHUSETTS AMHERST; | L4: 2016 | M4: 林德荣:1通讯作者; 肖梦诗:2 ; 赵菁菁:3; 李卓豪:4;李心丹:6 ;孔茂竹:7 ; 李粮裕:8; 张清:9; 刘耀文:10; 陈洪:11;秦文:12;吴贺军:13; 陈赛艳:14 | N4: 食品学院 | O4: 高被引论文
A5: WOS:000404358500014 | B5: 10.1016/j.cell.2017.06.008 | C5: MEDLINE:28666113 | D5: A NATURAL ALLELE OF A TRANSCRIPTION FACTOR IN RICE CONFERS BROAD-SPECTRUM BLAST RESISTANCE | E5: LI, WT;ZHU, ZW;CHERN, MS;YIN, JJ;YANG, C;RAN, L;CHENG, MP;HE, M;WANG, K;WANG, J;ZHOU, XG;ZHU, XB;CHEN, ZX;WANG, JC;ZHAO, W;MA, BT;QIN, P;CHEN, WL;WANG, YP;LIU, JL;WANG, WM;WU, XJ;LI, P;WANG, JR;ZHU, LH;LI, SG;CHEN, XW | F5: CELL 170 (1): 114-+ JUN 29 2017 | G5: MOLECULAR BIOLOGY & GENETICS | H5: 492 | I5: CHINA MAINLAND;USA; | J5: SICHUAN AGR UNIV WENJIANG, RICE RES INST, KEY LAB MAJOR CROP DIS, STATE KEY LAB HYBRID RICE, CHENGDU 611130, SICHUAN, PEOPLES R CHINA;SICHUAN AGR UNIV WENJIANG, COLLABORAT INNOVAT CTR HYBRID RICE YANGTZE RIVER, CHENGDU 611130, SICHUAN, PEOPLES R CHINA;UNIV CALIF DAVIS, DEPT PLANT PATHOL, DAVIS, CA 95616 USA;JOINT BIOENERGY INST, EMERYVILLE, CA 94608 USA;SICHUAN AGR UNIV, TRITICEAE RES INST, CHENGDU 611130, SICHUAN, PEOPLES R CHINA;CHINESE ACAD SCI, INST GENET & DEV BIOL, STATE KEY LAB PLANT GENOM, BEIJING 100101, PEOPLES R CHINA;CHINESE ACAD SCI, NATL CTR PLANT GENE RES, BEIJING 100101, PEOPLES R CHINA | K5: CHINESE ACADEMY OF SCIENCES;UNIVERSITY OF CALIFORNIA SYSTEM;UNIVERSITY OF CALIFORNIA DAVIS;UNITED STATES DEPARTMENT OF ENERGY (DOE);SICHUAN AGRICULTURAL UNIVERSITY;SICHUAN AGR UNIV WENJIANG;JOINT BIOENERGY INSTITUTE - JBEI;INSTITUTE OF GENETICS & DEVELOPMENTAL BIOLOGY, CAS; | L5: 2017 | M5: 李伟滔:1;朱紫薇:2; 尹俊杰:4;杨超:5;冉莉:6;程梦萍:7;贺闽:8; 王康:9; 王静:10; 周晓钢:11;朱孝波:12; 陈智雄:13 ;汪吉春:14; 赵文:15; 马炳田:16;钦鹏:17;陈薇兰:18; 王玉平:19;刘佳丽:20; 王文明:21;吴先军:22;李平:23;王际睿:24; 李仕贵:26;陈学伟:27通讯作者 | N5: 水稻研究所 | O5: 高被引论文
A6: WOS:000405815000064 | B6: 10.21037/jtd.2017.05.34 | C6: MEDLINE:28740688 | D6: A GENERAL INTRODUCTION TO ADJUSTMENT FOR MULTIPLE COMPARISONS | E6: CHEN, SY;FENG, Z;YI, XL | F6: JOURNAL OF THORACIC DISEASE 9 (6): 1725-1729 JUN 2017 | G6: CLINICAL MEDICINE | H6: 488 | I6: CHINA MAINLAND; | J6: SICHUAN AGR UNIV, FARM ANIM GENET RESOURCES EXPLORAT & INNOVAT KEY, 211 HUIMIN RD, CHENGDU 611130, SICHUAN, PEOPLES R CHINA;SICHUAN UNIV, WEST CHINA HOSP, DEPT GASTROENTEROL, CHENGDU 610041, SICHUAN, PEOPLES R CHINA;CHENGDU UNIV INFORMAT TECHNOL, COLL APPL MATH, CHENGDU 610225, SICHUAN, PEOPLES R CHINA | K6: CHENGDU UNIVERSITY OF INFORMATION TECHNOLOGY;SICHUAN UNIVERSITY;SICHUAN AGRICULTURAL UNIVERSITY; | L6: 2017 | M6: 陈仕毅:1通讯作者 | N6: 动物科技学院 | O6: 高被引论文
A7: WOS:000392664800001 | B7: 10.1186/s40104-016-0139-z | C7: MEDLINE:28127425 | D7: NOVEL METABOLIC AND PHYSIOLOGICAL FUNCTIONS OF BRANCHED CHAIN AMINO ACIDS: A REVIEW | E7: ZHANG, SH;ZENG, XF;REN, M;MAO, XB;QIAO, SY | F7: JOURNAL OF ANIMAL SCIENCE AND BIOTECHNOLOGY 8: - JAN 23 2017 | G7: AGRICULTURAL SCIENCES | H7: 485 | I7: CHINA MAINLAND; | J7: CHINA AGR UNIV, STATE KEY LAB ANIM NUTR, COLL ANIM SCI & TECHNOL, 2 YUANMINGYUAN WEST RD, BEIJING 100193, PEOPLES R CHINA;SOUTH CHINA AGR UNIV, COLL ANIM SCI, WUSHAN AVE, GUANGZHOU 510642, GUANGDONG, PEOPLES R CHINA;ANHUI SCI & TECHNOL UNIV, COLL ANIM SCI, 9 DONGHUA RD, FENGYANG 233100, ANHUI, PEOPLES R CHINA;SICHUAN AGR UNIV, INST ANIM NUTR, KEY LAB ANIM DIS RESISTANCE NUTR, MINIST EDUC, YAAN, SICHUAN, PEOPLES R CHINA | K7: ANHUI SCIENCE & TECHNOLOGY UNIVERSITY;SOUTH CHINA AGRICULTURAL UNIVERSITY;SICHUAN AGRICULTURAL UNIVERSITY;CHINA AGRICULTURAL UNIVERSITY; | L7: 2017 | M7: 毛湘冰:4 | N7: 动物营养研究所 | O7: 高被引论文
A8: WOS:000464956600053 | B8: 10.1126/science.aaw7166 | C8: MEDLINE:30819931 | D8: CYTOSINE, BUT NOT ADENINE, BASE EDITORS INDUCE GENOME-WIDE OFF-TARGET MUTATIONS IN RICE | E8: JIN, S;ZONG, Y;GAO, Q;ZHU, ZX;WANG, YP;QIN, P;LIANG, CZ;WANG, DW;QIU, JL;ZHANG, F;GAO, CX | F8: SCIENCE 364 (6437): 292-+ APR 19 2019 | G8: BIOLOGY & BIOCHEMISTRY | H8: 483 | I8: CHINA MAINLAND;USA; | J8: CHINESE ACAD SCI, STATE KEY LAB PLANT CELL & CHROMOSOME ENGN, INNOVAT ACAD SEED DESIGN, CTR GENOME EDITING,INST GENET & DEV BIOL, BEIJING 100101, PEOPLES R CHINA;UNIV CHINESE ACAD SCI, BEIJING 100864, PEOPLES R CHINA;CHINESE ACAD SCI, STATE KEY LAB PLANT GENOM, INST GENET & DEV BIOL, INNOVAT ACAD SEED DESIGN, BEIJING 100101, PEOPLES R CHINA;SICHUAN AGR UNIV, RICE RES INST, CHENGDU 611130, SICHUAN, PEOPLES R CHINA;CHINESE ACAD SCI, INST MICROBIOL, STATE KEY LAB PLANT GENOM, BEIJING 100101, PEOPLES R CHINA;UNIV MINNESOTA, DEPT PLANT & MICROBIAL BIOL, CTR PLANT PRECIS GENOM, MICROBIAL & PLANT GENOM INST, ST PAUL, MN 55108 USA | K8: CHINESE ACADEMY OF SCIENCES;UNIVERSITY OF MINNESOTA TWIN CITIES;UNIVERSITY OF MINNESOTA SYSTEM;UNIVERSITY OF CHINESE ACADEMY OF SCIENCES, CAS;SICHUAN AGRICULTURAL UNIVERSITY;INSTITUTE OF MICROBIOLOGY, CAS;INSTITUTE OF GENETICS & DEVELOPMENTAL BIOLOGY, CAS; | L8: 2019 | M8: 钦鹏:6 | N8: 水稻研究所 | O8: 高被引论文
A9: WOS:000459845200002 | B9: 10.1016/j.jenvman.2018.10.117 | C9: MEDLINE:30466010 | D9: BIOCHAR AMENDMENT IMPROVES CROP PRODUCTION IN PROBLEM SOILS: A REVIEW | E9: YU, HW;ZOU, WX;CHEN, JJ;CHEN, H;YU, ZB;HUANG, J;TANG, HR;WEI, XY;GAO, B | F9: JOURNAL OF ENVIRONMENTAL MANAGEMENT 232: 8-21 FEB 15 2019 | G9: ENVIRONMENT/ECOLOGY | H9: 460 | I9: CHINA MAINLAND;USA; | J9: SICHUAN AGR UNIV, COLL HORT, CHENGDU 611130, SICHUAN, PEOPLES R CHINA;UNIV FLORIDA, DEPT AGR & BIOL ENGN, GAINESVILLE, FL 32611 USA;NANJING UNIV, SCH CHEM & CHEM ENGN, KEY LAB MESOSCOP CHEM MOE, NANJING 210093, JIANGSU, PEOPLES R CHINA;NANJING UNIV, CTR MODERN ANAL, JIANGSU KEY LAB VEHICLE EMISS CONTROL, NANJING 210093, JIANGSU, PEOPLES R CHINA;UNIV FLORIDA, MIDFLORIDA RES & EDUC CTR, APOPKA, FL 32703 USA;UNIV ARKANSAS PINE BLUFF, DEPT AGR, PINE BLUFF, AR 71601 USA;GUANGXI UNIV, SCH RESOURCES ENVIRONM & MAT, NANNING 530004, PEOPLES R CHINA;HUALAN DESIGN & CONSULTING GRP CO LTD, NANNING 530011, PEOPLES R CHINA;GUANGXI UNIV, COLL CIVIL ENGN & ARCHITECTURE, NANNING 530004, PEOPLES R CHINA;FUJIAN AGR & FORESTRY UNIV, COLL LIFE SCI, FUZHOU 350002, FUJIAN, PEOPLES R CHINA | K9: FUJIAN AGRICULTURE & FORESTRY UNIVERSITY;UNIVERSITY OF FLORIDA;UNIVERSITY OF ARKANSAS SYSTEM;UNIVERSITY ARKANSAS PINE BLUFF;STATE UNIVERSITY SYSTEM OF FLORIDA;SICHUAN AGRICULTURAL UNIVERSITY;NANJING UNIVERSITY;HUALAN DESIGN & CONSULTING GRP CO LTD;GUANGXI UNIVERSITY; | L9: 2019 | M9: 余昊唯:1;汤浩茹:7通讯作者 | N9: 园艺学院 | O9: 高被引论文
A10: WOS:000397691200039 | B10: 10.1016/j.chemosphere.2017.02.061 | C10: MEDLINE:28235742 | D10: ADSORPTION OF CD(II) FROM AQUEOUS SOLUTIONS BY RAPE STRAW BIOCHAR DERIVED FROM DIFFERENT MODIFICATION PROCESSES | E10: LI, B;YANG, L;WANG, CQ;ZHANG, QP;LIU, QC;LI, YD;XIAO, R | F10: CHEMOSPHERE 175: 332-340 MAY 2017 | G10: ENVIRONMENT/ECOLOGY | H10: 439 | I10: CHINA MAINLAND; | J10: SICHUAN AGR UNIV, COLL RESOURCES, 211 HUIMIN RD, CHENGDU 611130, PEOPLES R CHINA | K10: SICHUAN AGRICULTURAL UNIVERSITY; | L10: 2017 | M10: 李冰:1;杨兰:2;王昌全:3通讯作者;张庆沛:4; 刘倾城:5;李一丁:6;肖瑞:7 | N10: 资源学院 | O10: 高被引论文
A11: WOS:000472683300063 | B11: 10.1021/acsami.9b05709 | C11: MEDLINE:31135126 | D11: FACILE, FLEXIBLE, COST-SAVING, AND ENVIRONMENT-FRIENDLY PAPER-BASED HUMIDITY SENSOR FOR MULTIFUNCTIONAL APPLICATIONS | E11: DUAN, ZH;JIANG, YD;YAN, MG;WANG, S;YUAN, Z;ZHAO, QN;SUN, P;XIE, GZ;DU, XS;TAI, HL | F11: ACS APPLIED MATERIALS & INTERFACES 11 (24): 21840-21849 JUN 19 2019 | G11: MATERIALS SCIENCE | H11: 410 | I11: CHINA MAINLAND; | J11: UESTC, SCH OPTOELECT SCI & ENGN, STATE KEY LAB ELECT THIN FILMS & INTEGRATED DEVIC, CHENGDU 610054, SICHUAN, PEOPLES R CHINA;SICHUAN AGR UNIV, COLL SCI, YAAN 625014, PEOPLES R CHINA;CHENGDU UNIV INFORMAT TECHNOL, COLL OPTOELECT ENGN, CHENGDU 610225, SICHUAN, PEOPLES R CHINA | K11: CHENGDU UNIVERSITY OF INFORMATION TECHNOLOGY;UNIVERSITY OF ELECTRONIC SCIENCE & TECHNOLOGY OF CHINA;SICHUAN AGRICULTURAL UNIVERSITY; | L11: 2019 | M11: Yan; MG (Yan; Mingguo):3 | N11: 理学院 | O11: 高被引论文
A12: WOS:000652617100012 | B12: 10.1016/j.tifs.2021.04.016 | C12: NA | D12: A REVIEW OF CELLULOSE AND ITS DERIVATIVES IN BIOPOLYMER-BASED FOR FOOD PACKAGING APPLICATION | E12: LIU, YW;AHMED, S;SAMEEN, DE;WANG, Y;LU, R;DAI, JW;LI, SQ;QIN, W | F12: TRENDS IN FOOD SCIENCE & TECHNOLOGY 112: 532-546 JUN 2021 | G12: AGRICULTURAL SCIENCES | H12: 393 | I12: CHINA MAINLAND;USA; | J12: SICHUAN AGR UNIV, COLL FOOD SCI, YAAN 625014, PEOPLES R CHINA;SICHUAN AGR UNIV, COLL MECH & ELECT ENGN, YAAN 625014, PEOPLES R CHINA;UNIV CALIF LOS ANGELES, CALIF NANO SYST INST, LOS ANGELES, CA 90095 USA | K12: SICHUAN AGRICULTURAL UNIVERSITY;UNIVERSITY OF CALIFORNIA SYSTEM;UNIVERSITY OF CALIFORNIA LOS ANGELES; | L12: 2021 | M12: 刘耀文:1共同通讯作者; Ahmed, S (Ahmed, Saeed):2;Sameen, DE (Sameen, Dur E.):3;王玥:4;卢瑞:5;代建武:6;李素清:7;秦文:8共同通讯作者 | N12: 食品学院 | O12: 高被引论文
... A224: WOS:001691072400001 | B224: 10.1016/j.hpj.2025.07.007 | C224: NA | D224: PAVBHLH102 FUNCTIONS AS A POSITIVE REGULATOR OF ANTHOCYANIN BIOSYNTHESIS IN SWEET CHERRY FRUIT BY TARGETING MULTIPLE KEY GENES | E224: TANG, WJ;LI, HF;HUANG, YD;NIU, WY;DU, QY;CHU, YZ;GAO, YJ;HE, RM;TANG, YJ;CHEN, HX;PEI, YA;GONG, RG | F224: HORTICULTURAL PLANT JOURNAL 12 (2): 317-332 FEB 2026 | G224: PLANT & ANIMAL SCIENCE | H224: 5 | I224: CHINA MAINLAND; | J224: SICHUAN AGR UNIV, COLL HORT, CHENGDU 611130, SICHUAN, PEOPLES R CHINA | K224: SICHUAN AGRICULTURAL UNIVERSITY; | L224: 2026 | M224: 唐万佳:1;李红粉:2;黄漪镝:3;牛文宜:4;杜泉燕:5;储一喆:6; Gao, YJ (Gao, Yujie):7; 何润梅:8; Tang, YJ (Tang, Yunjia):9;陈红旭:10;裴艳刚:11共同通讯作者;龚荣高:12共同通讯作者 | N224: 园艺学院 | O224: 热点论文
